BEGIN:VCALENDAR
VERSION:2.0
PRODID:-//Ss. Neumann Goretti High School - ECPv6.15.13.1//NONSGML v1.0//EN
CALSCALE:GREGORIAN
METHOD:PUBLISH
X-ORIGINAL-URL:https://neumanngorettihs.org
X-WR-CALDESC:Events for Ss. Neumann Goretti High School
REFRESH-INTERVAL;VALUE=DURATION:PT1H
X-Robots-Tag:noindex
X-PUBLISHED-TTL:PT1H
BEGIN:VTIMEZONE
TZID:America/New_York
BEGIN:DAYLIGHT
TZOFFSETFROM:-0500
TZOFFSETTO:-0400
TZNAME:EDT
DTSTART:20220313T070000
END:DAYLIGHT
BEGIN:STANDARD
TZOFFSETFROM:-0400
TZOFFSETTO:-0500
TZNAME:EST
DTSTART:20221106T060000
END:STANDARD
BEGIN:DAYLIGHT
TZOFFSETFROM:-0500
TZOFFSETTO:-0400
TZNAME:EDT
DTSTART:20230312T070000
END:DAYLIGHT
BEGIN:STANDARD
TZOFFSETFROM:-0400
TZOFFSETTO:-0500
TZNAME:EST
DTSTART:20231105T060000
END:STANDARD
BEGIN:DAYLIGHT
TZOFFSETFROM:-0500
TZOFFSETTO:-0400
TZNAME:EDT
DTSTART:20240310T070000
END:DAYLIGHT
BEGIN:STANDARD
TZOFFSETFROM:-0400
TZOFFSETTO:-0500
TZNAME:EST
DTSTART:20241103T060000
END:STANDARD
END:VTIMEZONE
BEGIN:VEVENT
DTSTART;VALUE=DATE:20230426
DTEND;VALUE=DATE:20230427
DTSTAMP:20260424T095439
CREATED:20220726T161749Z
LAST-MODIFIED:20230426T234517Z
UID:38035-1682467200-1682553599@neumanngorettihs.org
SUMMARY:Senior Panorama
DESCRIPTION:
URL:https://neumanngorettihs.org/event/senior-panorama-3/
END:VEVENT
BEGIN:VEVENT
DTSTART;TZID=America/New_York:20230426T170000
DTEND;TZID=America/New_York:20230426T200000
DTSTAMP:20260424T095439
CREATED:20230314T163714Z
LAST-MODIFIED:20230426T234517Z
UID:47674-1682528400-1682539200@neumanngorettihs.org
SUMMARY:EITC Night at SNG
DESCRIPTION:
URL:https://neumanngorettihs.org/event/eitc-night-at-sng/
END:VEVENT
BEGIN:VEVENT
DTSTART;TZID=America/New_York:20230426T173000
DTEND;TZID=America/New_York:20230426T183000
DTSTAMP:20260424T095439
CREATED:20230323T181527Z
LAST-MODIFIED:20230426T221459Z
UID:48081-1682530200-1682533800@neumanngorettihs.org
SUMMARY:NG College Information Night
DESCRIPTION:
URL:https://neumanngorettihs.org/event/ng-college-information-night/
END:VEVENT
END:VCALENDAR