BEGIN:VCALENDAR
VERSION:2.0
PRODID:-//Ss. Neumann Goretti High School - ECPv6.15.13.1//NONSGML v1.0//EN
CALSCALE:GREGORIAN
METHOD:PUBLISH
X-WR-CALNAME:Ss. Neumann Goretti High School
X-ORIGINAL-URL:https://neumanngorettihs.org
X-WR-CALDESC:Events for Ss. Neumann Goretti High School
REFRESH-INTERVAL;VALUE=DURATION:PT1H
X-Robots-Tag:noindex
X-PUBLISHED-TTL:PT1H
BEGIN:VTIMEZONE
TZID:America/New_York
BEGIN:DAYLIGHT
TZOFFSETFROM:-0500
TZOFFSETTO:-0400
TZNAME:EDT
DTSTART:20230312T070000
END:DAYLIGHT
BEGIN:STANDARD
TZOFFSETFROM:-0400
TZOFFSETTO:-0500
TZNAME:EST
DTSTART:20231105T060000
END:STANDARD
BEGIN:DAYLIGHT
TZOFFSETFROM:-0500
TZOFFSETTO:-0400
TZNAME:EDT
DTSTART:20240310T070000
END:DAYLIGHT
BEGIN:STANDARD
TZOFFSETFROM:-0400
TZOFFSETTO:-0500
TZNAME:EST
DTSTART:20241103T060000
END:STANDARD
BEGIN:DAYLIGHT
TZOFFSETFROM:-0500
TZOFFSETTO:-0400
TZNAME:EDT
DTSTART:20250309T070000
END:DAYLIGHT
BEGIN:STANDARD
TZOFFSETFROM:-0400
TZOFFSETTO:-0500
TZNAME:EST
DTSTART:20251102T060000
END:STANDARD
END:VTIMEZONE
BEGIN:VEVENT
DTSTART;VALUE=DATE:20240402
DTEND;VALUE=DATE:20240403
DTSTAMP:20260423T102436
CREATED:20230719T184506Z
LAST-MODIFIED:20240402T233001Z
UID:53010-1712016000-1712102399@neumanngorettihs.org
SUMMARY:Classes Resume
DESCRIPTION:
URL:https://neumanngorettihs.org/event/classes-resume-7/
END:VEVENT
BEGIN:VEVENT
DTSTART;VALUE=DATE:20240402
DTEND;VALUE=DATE:20240403
DTSTAMP:20260423T102436
CREATED:20240306T082955Z
LAST-MODIFIED:20240402T233001Z
UID:63617-1712016000-1712102399@neumanngorettihs.org
SUMMARY:First Day of Spring Uniform
DESCRIPTION:
URL:https://neumanngorettihs.org/event/first-day-of-spring-uniform/
END:VEVENT
BEGIN:VEVENT
DTSTART;TZID=America/New_York:20240402T154500
DTEND;TZID=America/New_York:20240402T190000
DTSTAMP:20260423T102436
CREATED:20240227T001454Z
LAST-MODIFIED:20240402T225950Z
UID:63436-1712072700-1712084400@neumanngorettihs.org
SUMMARY:Softball - away at Conwell Egan
DESCRIPTION:
URL:https://neumanngorettihs.org/event/softball-away-at-conwell-egan/
END:VEVENT
BEGIN:VEVENT
DTSTART;TZID=America/New_York:20240402T160000
DTEND;TZID=America/New_York:20240402T190000
DTSTAMP:20260423T102436
CREATED:20240227T001454Z
LAST-MODIFIED:20240402T225949Z
UID:63437-1712073600-1712084400@neumanngorettihs.org
SUMMARY:JV Baseball - Home vs SJP
DESCRIPTION:
URL:https://neumanngorettihs.org/event/jv-baseball-home-vs-sjp/
END:VEVENT
END:VCALENDAR