BEGIN:VCALENDAR
VERSION:2.0
PRODID:-//Ss. Neumann Goretti High School - ECPv6.15.13.1//NONSGML v1.0//EN
CALSCALE:GREGORIAN
METHOD:PUBLISH
X-WR-CALNAME:Ss. Neumann Goretti High School
X-ORIGINAL-URL:https://neumanngorettihs.org
X-WR-CALDESC:Events for Ss. Neumann Goretti High School
REFRESH-INTERVAL;VALUE=DURATION:PT1H
X-Robots-Tag:noindex
X-PUBLISHED-TTL:PT1H
BEGIN:VTIMEZONE
TZID:America/New_York
BEGIN:DAYLIGHT
TZOFFSETFROM:-0500
TZOFFSETTO:-0400
TZNAME:EDT
DTSTART:20230312T070000
END:DAYLIGHT
BEGIN:STANDARD
TZOFFSETFROM:-0400
TZOFFSETTO:-0500
TZNAME:EST
DTSTART:20231105T060000
END:STANDARD
BEGIN:DAYLIGHT
TZOFFSETFROM:-0500
TZOFFSETTO:-0400
TZNAME:EDT
DTSTART:20240310T070000
END:DAYLIGHT
BEGIN:STANDARD
TZOFFSETFROM:-0400
TZOFFSETTO:-0500
TZNAME:EST
DTSTART:20241103T060000
END:STANDARD
BEGIN:DAYLIGHT
TZOFFSETFROM:-0500
TZOFFSETTO:-0400
TZNAME:EDT
DTSTART:20250309T070000
END:DAYLIGHT
BEGIN:STANDARD
TZOFFSETFROM:-0400
TZOFFSETTO:-0500
TZNAME:EST
DTSTART:20251102T060000
END:STANDARD
END:VTIMEZONE
BEGIN:VEVENT
DTSTART;VALUE=DATE:20240409
DTEND;VALUE=DATE:20240412
DTSTAMP:20260424T095308
CREATED:20240215T142956Z
LAST-MODIFIED:20240411T234511Z
UID:62852-1712620800-1712879999@neumanngorettihs.org
SUMMARY:Kairos
DESCRIPTION:
URL:https://neumanngorettihs.org/event/kairos/
END:VEVENT
BEGIN:VEVENT
DTSTART;TZID=America/New_York:20240411T123000
DTEND;TZID=America/New_York:20240411T190000
DTSTAMP:20260424T095308
CREATED:20240227T001456Z
LAST-MODIFIED:20240411T224517Z
UID:63451-1712838600-1712862000@neumanngorettihs.org
SUMMARY:Softball - away vs Ryan
DESCRIPTION:
URL:https://neumanngorettihs.org/event/softball-away-vs-ryan/
END:VEVENT
BEGIN:VEVENT
DTSTART;TZID=America/New_York:20240411T160000
DTEND;TZID=America/New_York:20240411T190000
DTSTAMP:20260424T095308
CREATED:20240227T001455Z
LAST-MODIFIED:20240411T224517Z
UID:63450-1712851200-1712862000@neumanngorettihs.org
SUMMARY:Varsity Baseball
DESCRIPTION:
URL:https://neumanngorettihs.org/event/varsity-baseball-4/
LOCATION:Friends’ Central School\, 1101 City Ave\, Wynnewood\, PA 19096\, USA
END:VEVENT
END:VCALENDAR