BEGIN:VCALENDAR
VERSION:2.0
PRODID:-//Ss. Neumann Goretti High School - ECPv6.15.13.1//NONSGML v1.0//EN
CALSCALE:GREGORIAN
METHOD:PUBLISH
X-WR-CALNAME:Ss. Neumann Goretti High School
X-ORIGINAL-URL:https://neumanngorettihs.org
X-WR-CALDESC:Events for Ss. Neumann Goretti High School
REFRESH-INTERVAL;VALUE=DURATION:PT1H
X-Robots-Tag:noindex
X-PUBLISHED-TTL:PT1H
BEGIN:VTIMEZONE
TZID:America/New_York
BEGIN:DAYLIGHT
TZOFFSETFROM:-0500
TZOFFSETTO:-0400
TZNAME:EDT
DTSTART:20230312T070000
END:DAYLIGHT
BEGIN:STANDARD
TZOFFSETFROM:-0400
TZOFFSETTO:-0500
TZNAME:EST
DTSTART:20231105T060000
END:STANDARD
BEGIN:DAYLIGHT
TZOFFSETFROM:-0500
TZOFFSETTO:-0400
TZNAME:EDT
DTSTART:20240310T070000
END:DAYLIGHT
BEGIN:STANDARD
TZOFFSETFROM:-0400
TZOFFSETTO:-0500
TZNAME:EST
DTSTART:20241103T060000
END:STANDARD
BEGIN:DAYLIGHT
TZOFFSETFROM:-0500
TZOFFSETTO:-0400
TZNAME:EDT
DTSTART:20250309T070000
END:DAYLIGHT
BEGIN:STANDARD
TZOFFSETFROM:-0400
TZOFFSETTO:-0500
TZNAME:EST
DTSTART:20251102T060000
END:STANDARD
END:VTIMEZONE
BEGIN:VEVENT
DTSTART;VALUE=DATE:20240917
DTEND;VALUE=DATE:20240918
DTSTAMP:20260419T132835
CREATED:20240626T001453Z
LAST-MODIFIED:20240905T010003Z
UID:68403-1726531200-1726617599@neumanngorettihs.org
SUMMARY:Boys Varsity Soccer - @Home
DESCRIPTION:
URL:https://neumanngorettihs.org/event/boys-varsity-soccer-home-2/
END:VEVENT
BEGIN:VEVENT
DTSTART;TZID=America/New_York:20240917T184500
DTEND;TZID=America/New_York:20240917T214500
DTSTAMP:20260419T132835
CREATED:20240626T001453Z
LAST-MODIFIED:20240905T010003Z
UID:68402-1726598700-1726609500@neumanngorettihs.org
SUMMARY:Girls Varsity Volleyball - @Wood
DESCRIPTION:
URL:https://neumanngorettihs.org/event/girls-varsity-volleyball-wood/
END:VEVENT
END:VCALENDAR