BEGIN:VCALENDAR
VERSION:2.0
PRODID:-//Ss. Neumann Goretti High School - ECPv6.15.13.1//NONSGML v1.0//EN
CALSCALE:GREGORIAN
METHOD:PUBLISH
X-ORIGINAL-URL:https://neumanngorettihs.org
X-WR-CALDESC:Events for Ss. Neumann Goretti High School
REFRESH-INTERVAL;VALUE=DURATION:PT1H
X-Robots-Tag:noindex
X-PUBLISHED-TTL:PT1H
BEGIN:VTIMEZONE
TZID:America/New_York
BEGIN:DAYLIGHT
TZOFFSETFROM:-0500
TZOFFSETTO:-0400
TZNAME:EDT
DTSTART:20230312T070000
END:DAYLIGHT
BEGIN:STANDARD
TZOFFSETFROM:-0400
TZOFFSETTO:-0500
TZNAME:EST
DTSTART:20231105T060000
END:STANDARD
BEGIN:DAYLIGHT
TZOFFSETFROM:-0500
TZOFFSETTO:-0400
TZNAME:EDT
DTSTART:20240310T070000
END:DAYLIGHT
BEGIN:STANDARD
TZOFFSETFROM:-0400
TZOFFSETTO:-0500
TZNAME:EST
DTSTART:20241103T060000
END:STANDARD
BEGIN:DAYLIGHT
TZOFFSETFROM:-0500
TZOFFSETTO:-0400
TZNAME:EDT
DTSTART:20250309T070000
END:DAYLIGHT
BEGIN:STANDARD
TZOFFSETFROM:-0400
TZOFFSETTO:-0500
TZNAME:EST
DTSTART:20251102T060000
END:STANDARD
END:VTIMEZONE
BEGIN:VEVENT
DTSTART;VALUE=DATE:20240925
DTEND;VALUE=DATE:20240926
DTSTAMP:20260419T130056
CREATED:20240905T001538Z
LAST-MODIFIED:20240905T010004Z
UID:71907-1727222400-1727308799@neumanngorettihs.org
SUMMARY:All School Mass
DESCRIPTION:
URL:https://neumanngorettihs.org/event/all-school-mass/
END:VEVENT
BEGIN:VEVENT
DTSTART;TZID=America/New_York:20240925T180000
DTEND;TZID=America/New_York:20240925T190000
DTSTAMP:20260419T130056
CREATED:20240723T122950Z
LAST-MODIFIED:20240905T010004Z
UID:69739-1727287200-1727290800@neumanngorettihs.org
SUMMARY:College Aid Financial Webinar
DESCRIPTION:
URL:https://neumanngorettihs.org/event/college-aid-financial-webinar/
END:VEVENT
BEGIN:VEVENT
DTSTART;TZID=America/New_York:20240925T180000
DTEND;TZID=America/New_York:20240925T203000
DTSTAMP:20260419T130056
CREATED:20240723T122950Z
LAST-MODIFIED:20240905T010004Z
UID:69738-1727287200-1727296200@neumanngorettihs.org
SUMMARY:Back to School Night
DESCRIPTION:
URL:https://neumanngorettihs.org/event/back-to-school-night-4/
END:VEVENT
END:VCALENDAR