BEGIN:VCALENDAR
VERSION:2.0
PRODID:-//Ss. Neumann Goretti High School - ECPv6.15.13.1//NONSGML v1.0//EN
CALSCALE:GREGORIAN
METHOD:PUBLISH
X-ORIGINAL-URL:https://neumanngorettihs.org
X-WR-CALDESC:Events for Ss. Neumann Goretti High School
REFRESH-INTERVAL;VALUE=DURATION:PT1H
X-Robots-Tag:noindex
X-PUBLISHED-TTL:PT1H
BEGIN:VTIMEZONE
TZID:America/New_York
BEGIN:DAYLIGHT
TZOFFSETFROM:-0500
TZOFFSETTO:-0400
TZNAME:EDT
DTSTART:20230312T070000
END:DAYLIGHT
BEGIN:STANDARD
TZOFFSETFROM:-0400
TZOFFSETTO:-0500
TZNAME:EST
DTSTART:20231105T060000
END:STANDARD
BEGIN:DAYLIGHT
TZOFFSETFROM:-0500
TZOFFSETTO:-0400
TZNAME:EDT
DTSTART:20240310T070000
END:DAYLIGHT
BEGIN:STANDARD
TZOFFSETFROM:-0400
TZOFFSETTO:-0500
TZNAME:EST
DTSTART:20241103T060000
END:STANDARD
BEGIN:DAYLIGHT
TZOFFSETFROM:-0500
TZOFFSETTO:-0400
TZNAME:EDT
DTSTART:20250309T070000
END:DAYLIGHT
BEGIN:STANDARD
TZOFFSETFROM:-0400
TZOFFSETTO:-0500
TZNAME:EST
DTSTART:20251102T060000
END:STANDARD
END:VTIMEZONE
BEGIN:VEVENT
DTSTART;TZID=America/New_York:20241012T100000
DTEND;TZID=America/New_York:20241012T130000
DTSTAMP:20260420T102701
CREATED:20240723T130024Z
LAST-MODIFIED:20240905T010006Z
UID:69767-1728727200-1728738000@neumanngorettihs.org
SUMMARY:Open House
DESCRIPTION:
URL:https://neumanngorettihs.org/event/open-house-2/
END:VEVENT
BEGIN:VEVENT
DTSTART;TZID=America/New_York:20241012T170000
DTEND;TZID=America/New_York:20241012T220000
DTSTAMP:20260420T102701
CREATED:20240826T224704Z
LAST-MODIFIED:20240905T010006Z
UID:71487-1728752400-1728770400@neumanngorettihs.org
SUMMARY:Bingo Night
DESCRIPTION:
URL:https://neumanngorettihs.org/event/bingo-night/
END:VEVENT
END:VCALENDAR