BEGIN:VCALENDAR
VERSION:2.0
PRODID:-//Ss. Neumann Goretti High School - ECPv6.15.13.1//NONSGML v1.0//EN
CALSCALE:GREGORIAN
METHOD:PUBLISH
X-ORIGINAL-URL:https://neumanngorettihs.org
X-WR-CALDESC:Events for Ss. Neumann Goretti High School
REFRESH-INTERVAL;VALUE=DURATION:PT1H
X-Robots-Tag:noindex
X-PUBLISHED-TTL:PT1H
BEGIN:VTIMEZONE
TZID:America/New_York
BEGIN:DAYLIGHT
TZOFFSETFROM:-0500
TZOFFSETTO:-0400
TZNAME:EDT
DTSTART:20240310T070000
END:DAYLIGHT
BEGIN:STANDARD
TZOFFSETFROM:-0400
TZOFFSETTO:-0500
TZNAME:EST
DTSTART:20241103T060000
END:STANDARD
BEGIN:DAYLIGHT
TZOFFSETFROM:-0500
TZOFFSETTO:-0400
TZNAME:EDT
DTSTART:20250309T070000
END:DAYLIGHT
BEGIN:STANDARD
TZOFFSETFROM:-0400
TZOFFSETTO:-0500
TZNAME:EST
DTSTART:20251102T060000
END:STANDARD
BEGIN:DAYLIGHT
TZOFFSETFROM:-0500
TZOFFSETTO:-0400
TZNAME:EDT
DTSTART:20260308T070000
END:DAYLIGHT
BEGIN:STANDARD
TZOFFSETFROM:-0400
TZOFFSETTO:-0500
TZNAME:EST
DTSTART:20261101T060000
END:STANDARD
END:VTIMEZONE
BEGIN:VEVENT
DTSTART;VALUE=DATE:20250903
DTEND;VALUE=DATE:20250904
DTSTAMP:20260421T000908
CREATED:20250707T165605Z
LAST-MODIFIED:20250903T234917Z
UID:82509-1756857600-1756943999@neumanngorettihs.org
SUMMARY:First Day for Freshmen (Full Day)
DESCRIPTION:
URL:https://neumanngorettihs.org/event/first-day-for-freshmen-full-day/
CATEGORIES:School
END:VEVENT
BEGIN:VEVENT
DTSTART;VALUE=DATE:20250904
DTEND;VALUE=DATE:20250905
DTSTAMP:20260421T000908
CREATED:20250707T165605Z
LAST-MODIFIED:20250904T234906Z
UID:82510-1756944000-1757030399@neumanngorettihs.org
SUMMARY:First Day for Grades 10\, 11\, and 12 (Full Day)
DESCRIPTION:
URL:https://neumanngorettihs.org/event/first-day-for-grades-10-11-and-12-full-day/
CATEGORIES:School
END:VEVENT
BEGIN:VEVENT
DTSTART;TZID=America/New_York:20250909T180000
DTEND;TZID=America/New_York:20250909T200000
DTSTAMP:20260421T000908
CREATED:20250707T165605Z
LAST-MODIFIED:20250909T233408Z
UID:82511-1757440800-1757448000@neumanngorettihs.org
SUMMARY:Back to School Night
DESCRIPTION:
URL:https://neumanngorettihs.org/event/back-to-school-night-5/
CATEGORIES:School
END:VEVENT
BEGIN:VEVENT
DTSTART;TZID=America/New_York:20250917T170000
DTEND;TZID=America/New_York:20250917T193000
DTSTAMP:20260421T000908
CREATED:20250910T221903Z
LAST-MODIFIED:20250917T230405Z
UID:88989-1758128400-1758137400@neumanngorettihs.org
SUMMARY:College Financial Aid Night
DESCRIPTION:
URL:https://neumanngorettihs.org/event/college-financial-aid-night/
CATEGORIES:School
END:VEVENT
BEGIN:VEVENT
DTSTART;VALUE=DATE:20250926
DTEND;VALUE=DATE:20250927
DTSTAMP:20260421T000908
CREATED:20250707T165606Z
LAST-MODIFIED:20250926T234918Z
UID:82513-1758844800-1758931199@neumanngorettihs.org
SUMMARY:Freshmen Retreat
DESCRIPTION:
URL:https://neumanngorettihs.org/event/freshmen-retreat-2/
CATEGORIES:School
END:VEVENT
BEGIN:VEVENT
DTSTART;VALUE=DATE:20250929
DTEND;VALUE=DATE:20250930
DTSTAMP:20260421T000908
CREATED:20250903T174913Z
LAST-MODIFIED:20250929T231912Z
UID:88636-1759104000-1759190399@neumanngorettihs.org
SUMMARY:Union Day
DESCRIPTION:
URL:https://neumanngorettihs.org/event/union-day/
CATEGORIES:School
END:VEVENT
END:VCALENDAR