BEGIN:VCALENDAR
VERSION:2.0
PRODID:-//Ss. Neumann Goretti High School - ECPv6.15.13.1//NONSGML v1.0//EN
CALSCALE:GREGORIAN
METHOD:PUBLISH
X-ORIGINAL-URL:https://neumanngorettihs.org
X-WR-CALDESC:Events for Ss. Neumann Goretti High School
REFRESH-INTERVAL;VALUE=DURATION:PT1H
X-Robots-Tag:noindex
X-PUBLISHED-TTL:PT1H
BEGIN:VTIMEZONE
TZID:America/New_York
BEGIN:DAYLIGHT
TZOFFSETFROM:-0500
TZOFFSETTO:-0400
TZNAME:EDT
DTSTART:20240310T070000
END:DAYLIGHT
BEGIN:STANDARD
TZOFFSETFROM:-0400
TZOFFSETTO:-0500
TZNAME:EST
DTSTART:20241103T060000
END:STANDARD
BEGIN:DAYLIGHT
TZOFFSETFROM:-0500
TZOFFSETTO:-0400
TZNAME:EDT
DTSTART:20250309T070000
END:DAYLIGHT
BEGIN:STANDARD
TZOFFSETFROM:-0400
TZOFFSETTO:-0500
TZNAME:EST
DTSTART:20251102T060000
END:STANDARD
BEGIN:DAYLIGHT
TZOFFSETFROM:-0500
TZOFFSETTO:-0400
TZNAME:EDT
DTSTART:20260308T070000
END:DAYLIGHT
BEGIN:STANDARD
TZOFFSETFROM:-0400
TZOFFSETTO:-0500
TZNAME:EST
DTSTART:20261101T060000
END:STANDARD
END:VTIMEZONE
BEGIN:VEVENT
DTSTART;VALUE=DATE:20251002
DTEND;VALUE=DATE:20251003
DTSTAMP:20260420T164103
CREATED:20250707T165606Z
LAST-MODIFIED:20251002T234913Z
UID:82515-1759363200-1759449599@neumanngorettihs.org
SUMMARY:Respect Life Rally - Cardinal O'Hara High School
DESCRIPTION:
URL:https://neumanngorettihs.org/event/respect-life-rally-cardinal-ohara-high-school/
CATEGORIES:School
END:VEVENT
BEGIN:VEVENT
DTSTART;VALUE=DATE:20251004
DTEND;VALUE=DATE:20251005
DTSTAMP:20260420T164103
CREATED:20250915T191911Z
LAST-MODIFIED:20251004T233405Z
UID:89223-1759536000-1759622399@neumanngorettihs.org
SUMMARY:HSPT Testing
DESCRIPTION:
URL:https://neumanngorettihs.org/event/hspt-testing/
CATEGORIES:School
END:VEVENT
BEGIN:VEVENT
DTSTART;VALUE=DATE:20251004
DTEND;VALUE=DATE:20251005
DTSTAMP:20260420T164103
CREATED:20250915T191911Z
LAST-MODIFIED:20251004T233405Z
UID:89224-1759536000-1759622399@neumanngorettihs.org
SUMMARY:SAT Testing
DESCRIPTION:
URL:https://neumanngorettihs.org/event/sat-testing-3/
CATEGORIES:School
END:VEVENT
BEGIN:VEVENT
DTSTART;TZID=America/New_York:20251004T090000
DTEND;TZID=America/New_York:20251004T130000
DTSTAMP:20260420T164103
CREATED:20250707T165606Z
LAST-MODIFIED:20251004T164912Z
UID:82516-1759568400-1759582800@neumanngorettihs.org
SUMMARY:High School Placement Test
DESCRIPTION:
URL:https://neumanngorettihs.org/event/high-school-placement-test/
CATEGORIES:School
END:VEVENT
BEGIN:VEVENT
DTSTART;VALUE=DATE:20251009
DTEND;VALUE=DATE:20251010
DTSTAMP:20260420T164103
CREATED:20250707T165606Z
LAST-MODIFIED:20251009T233419Z
UID:82517-1759968000-1760054399@neumanngorettihs.org
SUMMARY:Ring Mass - St. Monica's
DESCRIPTION:
URL:https://neumanngorettihs.org/event/ring-mass-location-tbd/
CATEGORIES:School
END:VEVENT
BEGIN:VEVENT
DTSTART;TZID=America/New_York:20251010T190000
DTEND;TZID=America/New_York:20251010T213000
DTSTAMP:20260420T164103
CREATED:20250707T165606Z
LAST-MODIFIED:20251011T011907Z
UID:82518-1760122800-1760131800@neumanngorettihs.org
SUMMARY:Ring Dance
DESCRIPTION:
URL:https://neumanngorettihs.org/event/ring-dance-location-tbd/
CATEGORIES:School
END:VEVENT
BEGIN:VEVENT
DTSTART;TZID=America/New_York:20251011T090000
DTEND;TZID=America/New_York:20251011T130000
DTSTAMP:20260420T164103
CREATED:20250707T165606Z
LAST-MODIFIED:20251011T164907Z
UID:82519-1760173200-1760187600@neumanngorettihs.org
SUMMARY:High School Placement Test
DESCRIPTION:
URL:https://neumanngorettihs.org/event/high-school-placement-test-2/
CATEGORIES:School
END:VEVENT
BEGIN:VEVENT
DTSTART;VALUE=DATE:20251015
DTEND;VALUE=DATE:20251016
DTSTAMP:20260420T164103
CREATED:20250915T181912Z
LAST-MODIFIED:20251015T234917Z
UID:89214-1760486400-1760572799@neumanngorettihs.org
SUMMARY:Professional Development for Teachers
DESCRIPTION:
URL:https://neumanngorettihs.org/event/professional-development-for-teachers/
CATEGORIES:School
END:VEVENT
BEGIN:VEVENT
DTSTART;TZID=America/New_York:20251015T090000
DTEND;TZID=America/New_York:20251015T110000
DTSTAMP:20260420T164103
CREATED:20250915T181912Z
LAST-MODIFIED:20251015T144922Z
UID:89213-1760518800-1760526000@neumanngorettihs.org
SUMMARY:Special Schedule - PSAT for grades
DESCRIPTION:
URL:https://neumanngorettihs.org/event/special-schedule-psat-for-grades/
CATEGORIES:School
END:VEVENT
BEGIN:VEVENT
DTSTART;TZID=America/New_York:20251016T180000
DTEND;TZID=America/New_York:20251016T193000
DTSTAMP:20260420T164103
CREATED:20250915T181912Z
LAST-MODIFIED:20251016T231918Z
UID:89215-1760637600-1760643000@neumanngorettihs.org
SUMMARY:FAFSA Completion Night
DESCRIPTION:
URL:https://neumanngorettihs.org/event/fafsa-completion-night-3/
CATEGORIES:School
END:VEVENT
BEGIN:VEVENT
DTSTART;TZID=America/New_York:20251025T100000
DTEND;TZID=America/New_York:20251025T130000
DTSTAMP:20260420T164103
CREATED:20250707T165606Z
LAST-MODIFIED:20251025T163404Z
UID:82520-1761386400-1761397200@neumanngorettihs.org
SUMMARY:Open House
DESCRIPTION:
URL:https://neumanngorettihs.org/event/open-house-3/
CATEGORIES:School
END:VEVENT
BEGIN:VEVENT
DTSTART;VALUE=DATE:20251031
DTEND;VALUE=DATE:20251101
DTSTAMP:20260420T164103
CREATED:20250707T165606Z
LAST-MODIFIED:20251031T234902Z
UID:82521-1761868800-1761955199@neumanngorettihs.org
SUMMARY:Special Schedule - Early Dismissal
DESCRIPTION:
URL:https://neumanngorettihs.org/event/special-schedule-early-dismissal-4/
CATEGORIES:School
END:VEVENT
END:VCALENDAR