BEGIN:VCALENDAR
VERSION:2.0
PRODID:-//Ss. Neumann Goretti High School - ECPv6.15.13.1//NONSGML v1.0//EN
CALSCALE:GREGORIAN
METHOD:PUBLISH
X-WR-CALNAME:Ss. Neumann Goretti High School
X-ORIGINAL-URL:https://neumanngorettihs.org
X-WR-CALDESC:Events for Ss. Neumann Goretti High School
REFRESH-INTERVAL;VALUE=DURATION:PT1H
X-Robots-Tag:noindex
X-PUBLISHED-TTL:PT1H
BEGIN:VTIMEZONE
TZID:America/New_York
BEGIN:DAYLIGHT
TZOFFSETFROM:-0500
TZOFFSETTO:-0400
TZNAME:EDT
DTSTART:20240310T070000
END:DAYLIGHT
BEGIN:STANDARD
TZOFFSETFROM:-0400
TZOFFSETTO:-0500
TZNAME:EST
DTSTART:20241103T060000
END:STANDARD
BEGIN:DAYLIGHT
TZOFFSETFROM:-0500
TZOFFSETTO:-0400
TZNAME:EDT
DTSTART:20250309T070000
END:DAYLIGHT
BEGIN:STANDARD
TZOFFSETFROM:-0400
TZOFFSETTO:-0500
TZNAME:EST
DTSTART:20251102T060000
END:STANDARD
BEGIN:DAYLIGHT
TZOFFSETFROM:-0500
TZOFFSETTO:-0400
TZNAME:EDT
DTSTART:20260308T070000
END:DAYLIGHT
BEGIN:STANDARD
TZOFFSETFROM:-0400
TZOFFSETTO:-0500
TZNAME:EST
DTSTART:20261101T060000
END:STANDARD
END:VTIMEZONE
BEGIN:VEVENT
DTSTART;VALUE=DATE:20251101
DTEND;VALUE=DATE:20251102
DTSTAMP:20260420T074451
CREATED:20250707T165606Z
LAST-MODIFIED:20251101T234909Z
UID:82522-1761955200-1762041599@neumanngorettihs.org
SUMMARY:Priority Admissions Deadline
DESCRIPTION:
URL:https://neumanngorettihs.org/event/priority-admissions-deadline/
CATEGORIES:School
END:VEVENT
BEGIN:VEVENT
DTSTART;VALUE=DATE:20251102
DTEND;VALUE=DATE:20251103
DTSTAMP:20260420T074451
CREATED:20231102T003002Z
LAST-MODIFIED:20251102T234959Z
UID:58360-1762041600-1762127999@neumanngorettihs.org
SUMMARY:All Souls Day
DESCRIPTION:
URL:https://neumanngorettihs.org/event/all-souls-day-5/
CATEGORIES:School
END:VEVENT
BEGIN:VEVENT
DTSTART;VALUE=DATE:20251108
DTEND;VALUE=DATE:20251109
DTSTAMP:20260420T074451
CREATED:20250915T191912Z
LAST-MODIFIED:20251108T234943Z
UID:89225-1762560000-1762646399@neumanngorettihs.org
SUMMARY:SAT Testing
DESCRIPTION:
URL:https://neumanngorettihs.org/event/sat-testing-4/
CATEGORIES:School
END:VEVENT
BEGIN:VEVENT
DTSTART;VALUE=DATE:20251109
DTEND;VALUE=DATE:20251110
DTSTAMP:20260420T074451
CREATED:20250915T201941Z
LAST-MODIFIED:20251109T231949Z
UID:89249-1762646400-1762732799@neumanngorettihs.org
SUMMARY:NG 20th Anniversary Bash (21+)
DESCRIPTION:
URL:https://neumanngorettihs.org/event/ng-20th-anniversary-bash-21/
CATEGORIES:School
END:VEVENT
BEGIN:VEVENT
DTSTART;VALUE=DATE:20251111
DTEND;VALUE=DATE:20251112
DTSTAMP:20260420T074451
CREATED:20250707T165606Z
LAST-MODIFIED:20251111T235040Z
UID:82523-1762819200-1762905599@neumanngorettihs.org
SUMMARY:Veterans Day Prayer Service
DESCRIPTION:
URL:https://neumanngorettihs.org/event/veterans-day-prayer-service-2/
CATEGORIES:School
END:VEVENT
BEGIN:VEVENT
DTSTART;VALUE=DATE:20251125
DTEND;VALUE=DATE:20251126
DTSTAMP:20260420T074451
CREATED:20250707T165606Z
LAST-MODIFIED:20251125T234922Z
UID:82527-1764028800-1764115199@neumanngorettihs.org
SUMMARY:Special Schedule - Early Dismissal
DESCRIPTION:
URL:https://neumanngorettihs.org/event/special-schedule-early-dismissal-5/
CATEGORIES:School
END:VEVENT
BEGIN:VEVENT
DTSTART;VALUE=DATE:20251125
DTEND;VALUE=DATE:20251126
DTSTAMP:20260420T074451
CREATED:20250707T165606Z
LAST-MODIFIED:20251125T234922Z
UID:82528-1764028800-1764115199@neumanngorettihs.org
SUMMARY:Homecoming Dance
DESCRIPTION:
URL:https://neumanngorettihs.org/event/homecoming-dance-5/
CATEGORIES:School
END:VEVENT
BEGIN:VEVENT
DTSTART;VALUE=DATE:20251125
DTEND;VALUE=DATE:20251126
DTSTAMP:20260420T074451
CREATED:20250707T165606Z
LAST-MODIFIED:20251125T234922Z
UID:82526-1764028800-1764115199@neumanngorettihs.org
SUMMARY:Thanksgiving Mass
DESCRIPTION:
URL:https://neumanngorettihs.org/event/thanksgiving-mass-2/
CATEGORIES:School
END:VEVENT
BEGIN:VEVENT
DTSTART;VALUE=DATE:20251126
DTEND;VALUE=DATE:20251127
DTSTAMP:20260420T074451
CREATED:20250904T001908Z
LAST-MODIFIED:20251126T233417Z
UID:88656-1764115200-1764201599@neumanngorettihs.org
SUMMARY:Principal's Holiday - School Closed
DESCRIPTION:
URL:https://neumanngorettihs.org/event/principals-holiday-school-closed-4/
CATEGORIES:School
END:VEVENT
BEGIN:VEVENT
DTSTART;VALUE=DATE:20251127
DTEND;VALUE=DATE:20251129
DTSTAMP:20260420T074451
CREATED:20250707T165606Z
LAST-MODIFIED:20251128T234907Z
UID:82524-1764201600-1764374399@neumanngorettihs.org
SUMMARY:Thanksgiving Holiday - School Closed
DESCRIPTION:
URL:https://neumanngorettihs.org/event/thanksgiving-holiday-school-closed-3/
CATEGORIES:School
END:VEVENT
END:VCALENDAR