BEGIN:VCALENDAR
VERSION:2.0
PRODID:-//Ss. Neumann Goretti High School - ECPv6.15.13.1//NONSGML v1.0//EN
CALSCALE:GREGORIAN
METHOD:PUBLISH
X-WR-CALNAME:Ss. Neumann Goretti High School
X-ORIGINAL-URL:https://neumanngorettihs.org
X-WR-CALDESC:Events for Ss. Neumann Goretti High School
REFRESH-INTERVAL;VALUE=DURATION:PT1H
X-Robots-Tag:noindex
X-PUBLISHED-TTL:PT1H
BEGIN:VTIMEZONE
TZID:America/New_York
BEGIN:DAYLIGHT
TZOFFSETFROM:-0500
TZOFFSETTO:-0400
TZNAME:EDT
DTSTART:20240310T070000
END:DAYLIGHT
BEGIN:STANDARD
TZOFFSETFROM:-0400
TZOFFSETTO:-0500
TZNAME:EST
DTSTART:20241103T060000
END:STANDARD
BEGIN:DAYLIGHT
TZOFFSETFROM:-0500
TZOFFSETTO:-0400
TZNAME:EDT
DTSTART:20250309T070000
END:DAYLIGHT
BEGIN:STANDARD
TZOFFSETFROM:-0400
TZOFFSETTO:-0500
TZNAME:EST
DTSTART:20251102T060000
END:STANDARD
BEGIN:DAYLIGHT
TZOFFSETFROM:-0500
TZOFFSETTO:-0400
TZNAME:EDT
DTSTART:20260308T070000
END:DAYLIGHT
BEGIN:STANDARD
TZOFFSETFROM:-0400
TZOFFSETTO:-0500
TZNAME:EST
DTSTART:20261101T060000
END:STANDARD
BEGIN:DAYLIGHT
TZOFFSETFROM:-0500
TZOFFSETTO:-0400
TZNAME:EDT
DTSTART:20270314T070000
END:DAYLIGHT
BEGIN:STANDARD
TZOFFSETFROM:-0400
TZOFFSETTO:-0500
TZNAME:EST
DTSTART:20271107T060000
END:STANDARD
END:VTIMEZONE
BEGIN:VEVENT
DTSTART;VALUE=DATE:20251201
DTEND;VALUE=DATE:20251202
DTSTAMP:20260421T010814
CREATED:20250707T165607Z
LAST-MODIFIED:20251201T231907Z
UID:82529-1764547200-1764633599@neumanngorettihs.org
SUMMARY:Classes Resume
DESCRIPTION:
URL:https://neumanngorettihs.org/event/classes-resume-10/
CATEGORIES:School
END:VEVENT
BEGIN:VEVENT
DTSTART;VALUE=DATE:20251204
DTEND;VALUE=DATE:20251205
DTSTAMP:20260421T010814
CREATED:20250707T165607Z
LAST-MODIFIED:20251204T234910Z
UID:82532-1764806400-1764892799@neumanngorettihs.org
SUMMARY:Senior Retreat
DESCRIPTION:
URL:https://neumanngorettihs.org/event/senior-retreat-5/
CATEGORIES:School
END:VEVENT
BEGIN:VEVENT
DTSTART;TZID=America/New_York:20251204T190000
DTEND;TZID=America/New_York:20251204T220000
DTSTAMP:20260421T010814
CREATED:20250707T165607Z
LAST-MODIFIED:20251205T024905Z
UID:82533-1764874800-1764885600@neumanngorettihs.org
SUMMARY:Father Senior Dinner - Lazaretto Ballroom
DESCRIPTION:
URL:https://neumanngorettihs.org/event/father-senior-dinner-lazaretto-ballroom/
CATEGORIES:School
END:VEVENT
BEGIN:VEVENT
DTSTART;VALUE=DATE:20251208
DTEND;VALUE=DATE:20251209
DTSTAMP:20260421T010814
CREATED:20250707T165607Z
LAST-MODIFIED:20251207T214932Z
UID:82534-1765152000-1765238399@neumanngorettihs.org
SUMMARY:Feast of the Immaculate Conception - School Closed
DESCRIPTION:
URL:https://neumanngorettihs.org/event/feast-of-the-immaculate-conception-school-closed/
CATEGORIES:School
END:VEVENT
BEGIN:VEVENT
DTSTART;VALUE=DATE:20251218
DTEND;VALUE=DATE:20251219
DTSTAMP:20260421T010814
CREATED:20250707T165607Z
LAST-MODIFIED:20251218T231917Z
UID:82536-1766016000-1766102399@neumanngorettihs.org
SUMMARY:Christmas Concert
DESCRIPTION:
URL:https://neumanngorettihs.org/event/christmas-concert-2/
CATEGORIES:School
END:VEVENT
BEGIN:VEVENT
DTSTART;VALUE=DATE:20251223
DTEND;VALUE=DATE:20251224
DTSTAMP:20260421T010814
CREATED:20250707T165607Z
LAST-MODIFIED:20251223T233434Z
UID:82537-1766448000-1766534399@neumanngorettihs.org
SUMMARY:Christmas Mass
DESCRIPTION:
URL:https://neumanngorettihs.org/event/christmas-mass/
CATEGORIES:School
END:VEVENT
BEGIN:VEVENT
DTSTART;VALUE=DATE:20251223
DTEND;VALUE=DATE:20251224
DTSTAMP:20260421T010814
CREATED:20250707T165607Z
LAST-MODIFIED:20251223T233434Z
UID:82538-1766448000-1766534399@neumanngorettihs.org
SUMMARY:Special Schedule - Early Dismissal
DESCRIPTION:
URL:https://neumanngorettihs.org/event/special-schedule-early-dismissal-6/
CATEGORIES:School
END:VEVENT
BEGIN:VEVENT
DTSTART;VALUE=DATE:20251224
DTEND;VALUE=DATE:20260105
DTSTAMP:20260421T010814
CREATED:20250707T165607Z
LAST-MODIFIED:20260104T233405Z
UID:82539-1766534400-1767571199@neumanngorettihs.org
SUMMARY:Christmas Holiday - School Closed
DESCRIPTION:
URL:https://neumanngorettihs.org/event/christmas-holiday-school-closed-2/
CATEGORIES:School
END:VEVENT
BEGIN:VEVENT
DTSTART;VALUE=DATE:20260105
DTEND;VALUE=DATE:20260106
DTSTAMP:20260421T010814
CREATED:20240105T000308Z
LAST-MODIFIED:20260105T234928Z
UID:61241-1767571200-1767657599@neumanngorettihs.org
SUMMARY:Feast of St. John Neumann
DESCRIPTION:
URL:https://neumanngorettihs.org/event/feast-of-st-john-neumann-5/
CATEGORIES:School
END:VEVENT
BEGIN:VEVENT
DTSTART;VALUE=DATE:20260105
DTEND;VALUE=DATE:20260106
DTSTAMP:20260421T010814
CREATED:20250707T165607Z
LAST-MODIFIED:20260105T234928Z
UID:82541-1767571200-1767657599@neumanngorettihs.org
SUMMARY:Classes Resume
DESCRIPTION:
URL:https://neumanngorettihs.org/event/classes-resume-11/
CATEGORIES:School
END:VEVENT
BEGIN:VEVENT
DTSTART;TZID=America/New_York:20260114T180000
DTEND;TZID=America/New_York:20260114T193000
DTSTAMP:20260421T010814
CREATED:20250915T181913Z
LAST-MODIFIED:20260115T000418Z
UID:89216-1768413600-1768419000@neumanngorettihs.org
SUMMARY:FAFSA Completion Night
DESCRIPTION:
URL:https://neumanngorettihs.org/event/fafsa-completion-night-4/
CATEGORIES:School
END:VEVENT
BEGIN:VEVENT
DTSTART;VALUE=DATE:20260119
DTEND;VALUE=DATE:20260120
DTSTAMP:20260421T010814
CREATED:20250707T165607Z
LAST-MODIFIED:20260119T233406Z
UID:82542-1768780800-1768867199@neumanngorettihs.org
SUMMARY:Dr. Martin Luther King Day of Service - School Closed
DESCRIPTION:
URL:https://neumanngorettihs.org/event/dr-martin-luther-king-day-of-service-school-closed/
CATEGORIES:School
END:VEVENT
BEGIN:VEVENT
DTSTART;VALUE=DATE:20260126
DTEND;VALUE=DATE:20260131
DTSTAMP:20260421T010814
CREATED:20250707T165608Z
LAST-MODIFIED:20260130T234917Z
UID:82543-1769385600-1769817599@neumanngorettihs.org
SUMMARY:Catholic Schools Week
DESCRIPTION:
URL:https://neumanngorettihs.org/event/catholic-schools-week-5/
CATEGORIES:School
END:VEVENT
BEGIN:VEVENT
DTSTART;VALUE=DATE:20260130
DTEND;VALUE=DATE:20260131
DTSTAMP:20260421T010814
CREATED:20250707T165608Z
LAST-MODIFIED:20260130T234917Z
UID:82544-1769731200-1769817599@neumanngorettihs.org
SUMMARY:Special Schedule - Early Dismissal
DESCRIPTION:
URL:https://neumanngorettihs.org/event/special-schedule-early-dismissal-7/
CATEGORIES:School
END:VEVENT
BEGIN:VEVENT
DTSTART;VALUE=DATE:20260216
DTEND;VALUE=DATE:20260217
DTSTAMP:20260421T010814
CREATED:20250707T165608Z
LAST-MODIFIED:20260211T160414Z
UID:82545-1771200000-1771286399@neumanngorettihs.org
SUMMARY:President's Day - No School for Students
DESCRIPTION:
URL:https://neumanngorettihs.org/event/presidents-day-no-school-for-students/
CATEGORIES:School
END:VEVENT
BEGIN:VEVENT
DTSTART;VALUE=DATE:20260218
DTEND;VALUE=DATE:20260219
DTSTAMP:20260421T010814
CREATED:20250707T165608Z
LAST-MODIFIED:20260218T233405Z
UID:82546-1771372800-1771459199@neumanngorettihs.org
SUMMARY:Ash Wedenesday Mass
DESCRIPTION:
URL:https://neumanngorettihs.org/event/ash-wedenesday-mass/
CATEGORIES:School
END:VEVENT
BEGIN:VEVENT
DTSTART;VALUE=DATE:20260326
DTEND;VALUE=DATE:20260327
DTSTAMP:20260421T010814
CREATED:20250707T165608Z
LAST-MODIFIED:20260320T043447Z
UID:82547-1774483200-1774569599@neumanngorettihs.org
SUMMARY:7th Grade Visitation Day - No School for NG Students
DESCRIPTION:No School for NG Students unless otherwise noted
URL:https://neumanngorettihs.org/event/7th-grade-visitation-day-no-school-for-ng-students/
CATEGORIES:School
END:VEVENT
BEGIN:VEVENT
DTSTART;VALUE=DATE:20260401
DTEND;VALUE=DATE:20260402
DTSTAMP:20260421T010814
CREATED:20250707T165608Z
LAST-MODIFIED:20260401T234937Z
UID:82550-1775001600-1775087999@neumanngorettihs.org
SUMMARY:Easter Mass
DESCRIPTION:
URL:https://neumanngorettihs.org/event/easter-mass/
CATEGORIES:School
END:VEVENT
BEGIN:VEVENT
DTSTART;VALUE=DATE:20260401
DTEND;VALUE=DATE:20260402
DTSTAMP:20260421T010814
CREATED:20250707T165608Z
LAST-MODIFIED:20260401T234937Z
UID:82549-1775001600-1775087999@neumanngorettihs.org
SUMMARY:Special Schedule - Early Dismissal
DESCRIPTION:
URL:https://neumanngorettihs.org/event/special-schedule-early-dismissal-8/
CATEGORIES:School
END:VEVENT
BEGIN:VEVENT
DTSTART;VALUE=DATE:20260402
DTEND;VALUE=DATE:20260404
DTSTAMP:20260421T010814
CREATED:20250707T165608Z
LAST-MODIFIED:20260403T234905Z
UID:82548-1775088000-1775260799@neumanngorettihs.org
SUMMARY:Easter Holiday - School Closed
DESCRIPTION:
URL:https://neumanngorettihs.org/event/easter-holiday-school-closed/
CATEGORIES:School
END:VEVENT
BEGIN:VEVENT
DTSTART;VALUE=DATE:20260406
DTEND;VALUE=DATE:20260407
DTSTAMP:20260421T010814
CREATED:20250707T165608Z
LAST-MODIFIED:20260406T234929Z
UID:82551-1775433600-1775519999@neumanngorettihs.org
SUMMARY:Easter Monday - School Closed
DESCRIPTION:
URL:https://neumanngorettihs.org/event/easter-monday-school-closed-3/
CATEGORIES:School
END:VEVENT
BEGIN:VEVENT
DTSTART;VALUE=DATE:20260407
DTEND;VALUE=DATE:20260408
DTSTAMP:20260421T010814
CREATED:20250707T165608Z
LAST-MODIFIED:20260407T234909Z
UID:82552-1775520000-1775606399@neumanngorettihs.org
SUMMARY:Classes Resume
DESCRIPTION:
URL:https://neumanngorettihs.org/event/classes-resume-12/
CATEGORIES:School
END:VEVENT
BEGIN:VEVENT
DTSTART;VALUE=DATE:20260412
DTEND;VALUE=DATE:20260413
DTSTAMP:20260421T010814
CREATED:20250828T151908Z
LAST-MODIFIED:20260412T234911Z
UID:88277-1775952000-1776038399@neumanngorettihs.org
SUMMARY:Mother Senior Brunch
DESCRIPTION:
URL:https://neumanngorettihs.org/event/mother-senior-brunch-4/
CATEGORIES:School
END:VEVENT
BEGIN:VEVENT
DTSTART;VALUE=DATE:20260416
DTEND;VALUE=DATE:20260417
DTSTAMP:20260421T010814
CREATED:20250707T165608Z
LAST-MODIFIED:20260416T234929Z
UID:82553-1776297600-1776383999@neumanngorettihs.org
SUMMARY:Spring Concert and Art Show
DESCRIPTION:
URL:https://neumanngorettihs.org/event/spring-concert-and-art-show/
CATEGORIES:School
END:VEVENT
BEGIN:VEVENT
DTSTART;VALUE=DATE:20260424
DTEND;VALUE=DATE:20260425
DTSTAMP:20260421T010814
CREATED:20250707T165608Z
LAST-MODIFIED:20260420T003407Z
UID:82555-1776988800-1777075199@neumanngorettihs.org
SUMMARY:Spring Drama
DESCRIPTION:
URL:https://neumanngorettihs.org/event/spring-musical/
CATEGORIES:School
END:VEVENT
BEGIN:VEVENT
DTSTART;VALUE=DATE:20260425
DTEND;VALUE=DATE:20260426
DTSTAMP:20260421T010814
CREATED:20250707T165608Z
LAST-MODIFIED:20260420T003408Z
UID:82557-1777075200-1777161599@neumanngorettihs.org
SUMMARY:Spring Musical
DESCRIPTION:
URL:https://neumanngorettihs.org/event/spring-musical-3/
CATEGORIES:School
END:VEVENT
BEGIN:VEVENT
DTSTART;VALUE=DATE:20260426
DTEND;VALUE=DATE:20260427
DTSTAMP:20260421T010814
CREATED:20250707T165608Z
LAST-MODIFIED:20260420T003408Z
UID:82556-1777161600-1777247999@neumanngorettihs.org
SUMMARY:Spring Musical
DESCRIPTION:
URL:https://neumanngorettihs.org/event/spring-musical-2/
CATEGORIES:School
END:VEVENT
BEGIN:VEVENT
DTSTART;TZID=America/New_York:20260429T180000
DTEND;TZID=America/New_York:20260429T200000
DTSTAMP:20260421T010814
CREATED:20250707T165608Z
LAST-MODIFIED:20260420T003408Z
UID:82554-1777485600-1777492800@neumanngorettihs.org
SUMMARY:Parent Teacher Conferneces (Virtual)
DESCRIPTION:
URL:https://neumanngorettihs.org/event/parent-teacher-conferneces-virtual/
CATEGORIES:School
END:VEVENT
BEGIN:VEVENT
DTSTART;VALUE=DATE:20260514
DTEND;VALUE=DATE:20260515
DTSTAMP:20260421T010814
CREATED:20250707T165609Z
LAST-MODIFIED:20260420T003409Z
UID:82559-1778716800-1778803199@neumanngorettihs.org
SUMMARY:Solemnity of the Ascension - School Closed
DESCRIPTION:
URL:https://neumanngorettihs.org/event/solemnity-of-the-ascension-school-closed/
CATEGORIES:School
END:VEVENT
BEGIN:VEVENT
DTSTART;VALUE=DATE:20260514
DTEND;VALUE=DATE:20260515
DTSTAMP:20260421T010814
CREATED:20250821T161910Z
LAST-MODIFIED:20260420T003409Z
UID:87934-1778716800-1778803199@neumanngorettihs.org
SUMMARY:BLOCKS Board Meeting - Connolly Center
DESCRIPTION:
URL:https://neumanngorettihs.org/event/blocks-board-meeting-connolly-center/
CATEGORIES:School
END:VEVENT
END:VCALENDAR