BEGIN:VCALENDAR
VERSION:2.0
PRODID:-//Ss. Neumann Goretti High School - ECPv6.15.13.1//NONSGML v1.0//EN
CALSCALE:GREGORIAN
METHOD:PUBLISH
X-ORIGINAL-URL:https://neumanngorettihs.org
X-WR-CALDESC:Events for Ss. Neumann Goretti High School
REFRESH-INTERVAL;VALUE=DURATION:PT1H
X-Robots-Tag:noindex
X-PUBLISHED-TTL:PT1H
BEGIN:VTIMEZONE
TZID:America/New_York
BEGIN:DAYLIGHT
TZOFFSETFROM:-0500
TZOFFSETTO:-0400
TZNAME:EDT
DTSTART:20240310T070000
END:DAYLIGHT
BEGIN:STANDARD
TZOFFSETFROM:-0400
TZOFFSETTO:-0500
TZNAME:EST
DTSTART:20241103T060000
END:STANDARD
BEGIN:DAYLIGHT
TZOFFSETFROM:-0500
TZOFFSETTO:-0400
TZNAME:EDT
DTSTART:20250309T070000
END:DAYLIGHT
BEGIN:STANDARD
TZOFFSETFROM:-0400
TZOFFSETTO:-0500
TZNAME:EST
DTSTART:20251102T060000
END:STANDARD
BEGIN:DAYLIGHT
TZOFFSETFROM:-0500
TZOFFSETTO:-0400
TZNAME:EDT
DTSTART:20260308T070000
END:DAYLIGHT
BEGIN:STANDARD
TZOFFSETFROM:-0400
TZOFFSETTO:-0500
TZNAME:EST
DTSTART:20261101T060000
END:STANDARD
END:VTIMEZONE
BEGIN:VEVENT
DTSTART;TZID=America/New_York:20251004T180000
DTEND;TZID=America/New_York:20251004T180000
DTSTAMP:20260423T094049
CREATED:20250723T183956Z
LAST-MODIFIED:20250829T140838Z
UID:86435-1759600800-1759600800@neumanngorettihs.org
SUMMARY:Football (H) vs Conwell Egan
DESCRIPTION:
URL:https://neumanngorettihs.org/event/football-h-vs-conwell-egan/
CATEGORIES:football
END:VEVENT
BEGIN:VEVENT
DTSTART;TZID=America/New_York:20251006T000000
DTEND;TZID=America/New_York:20251006T000000
DTSTAMP:20260423T094049
CREATED:20250723T183956Z
LAST-MODIFIED:20250829T140838Z
UID:86437-1759708800-1759708800@neumanngorettihs.org
SUMMARY:JV FB (A) vs Conwell Egan
DESCRIPTION:
URL:https://neumanngorettihs.org/event/jv-fb-a-vs-conwell-egan/
CATEGORIES:football
END:VEVENT
BEGIN:VEVENT
DTSTART;TZID=America/New_York:20251011T160000
DTEND;TZID=America/New_York:20251011T160000
DTSTAMP:20260423T094049
CREATED:20250723T184003Z
LAST-MODIFIED:20250829T140838Z
UID:86444-1760198400-1760198400@neumanngorettihs.org
SUMMARY:Football (H) vs West Catholic
DESCRIPTION:
URL:https://neumanngorettihs.org/event/football-h-vs-west-catholic/
CATEGORIES:football
END:VEVENT
BEGIN:VEVENT
DTSTART;TZID=America/New_York:20251013T000000
DTEND;TZID=America/New_York:20251013T000000
DTSTAMP:20260423T094049
CREATED:20250723T184044Z
LAST-MODIFIED:20250723T184044Z
UID:86445-1760313600-1760313600@neumanngorettihs.org
SUMMARY:JV FB (A) vs West Catholic
DESCRIPTION:
URL:https://neumanngorettihs.org/event/jv-fb-a-vs-west-catholic/
CATEGORIES:football
END:VEVENT
BEGIN:VEVENT
DTSTART;TZID=America/New_York:20251018T130000
DTEND;TZID=America/New_York:20251018T160000
DTSTAMP:20260423T094049
CREATED:20250811T134921Z
LAST-MODIFIED:20251017T050734Z
UID:87340-1760792400-1760803200@neumanngorettihs.org
SUMMARY:NG Football vs St. Mary's
DESCRIPTION:
URL:https://neumanngorettihs.org/event/ng-football-vs-st-marys/
CATEGORIES:football
END:VEVENT
BEGIN:VEVENT
DTSTART;TZID=America/New_York:20251024T190000
DTEND;TZID=America/New_York:20251024T190000
DTSTAMP:20260423T094049
CREATED:20250723T184045Z
LAST-MODIFIED:20250723T184045Z
UID:86449-1761332400-1761332400@neumanngorettihs.org
SUMMARY:Football (A) vs Wood
DESCRIPTION:
URL:https://neumanngorettihs.org/event/football-a-vs-wood/
CATEGORIES:football
END:VEVENT
BEGIN:VEVENT
DTSTART;TZID=America/New_York:20251027T160000
DTEND;TZID=America/New_York:20251027T190000
DTSTAMP:20260423T094049
CREATED:20250724T121323Z
LAST-MODIFIED:20250724T121323Z
UID:86494-1761580800-1761591600@neumanngorettihs.org
SUMMARY:JV FB (H) vs Wood
DESCRIPTION:
URL:https://neumanngorettihs.org/event/jv-fb-h-vs-wood/
LOCATION:McNichol Field\, 2500 Mifflin St\, Philadelphia\, PA 19145\, USA
CATEGORIES:football
END:VEVENT
END:VCALENDAR