BEGIN:VCALENDAR
VERSION:2.0
PRODID:-//Ss. Neumann Goretti High School - ECPv6.15.13.1//NONSGML v1.0//EN
CALSCALE:GREGORIAN
METHOD:PUBLISH
X-WR-CALNAME:Ss. Neumann Goretti High School
X-ORIGINAL-URL:https://neumanngorettihs.org
X-WR-CALDESC:Events for Ss. Neumann Goretti High School
REFRESH-INTERVAL;VALUE=DURATION:PT1H
X-Robots-Tag:noindex
X-PUBLISHED-TTL:PT1H
BEGIN:VTIMEZONE
TZID:America/New_York
BEGIN:DAYLIGHT
TZOFFSETFROM:-0500
TZOFFSETTO:-0400
TZNAME:EDT
DTSTART:20210314T070000
END:DAYLIGHT
BEGIN:STANDARD
TZOFFSETFROM:-0400
TZOFFSETTO:-0500
TZNAME:EST
DTSTART:20211107T060000
END:STANDARD
BEGIN:DAYLIGHT
TZOFFSETFROM:-0500
TZOFFSETTO:-0400
TZNAME:EDT
DTSTART:20220313T070000
END:DAYLIGHT
BEGIN:STANDARD
TZOFFSETFROM:-0400
TZOFFSETTO:-0500
TZNAME:EST
DTSTART:20221106T060000
END:STANDARD
BEGIN:DAYLIGHT
TZOFFSETFROM:-0500
TZOFFSETTO:-0400
TZNAME:EDT
DTSTART:20230312T070000
END:DAYLIGHT
BEGIN:STANDARD
TZOFFSETFROM:-0400
TZOFFSETTO:-0500
TZNAME:EST
DTSTART:20231105T060000
END:STANDARD
END:VTIMEZONE
BEGIN:VEVENT
DTSTART;VALUE=DATE:20220705
DTEND;VALUE=DATE:20220706
DTSTAMP:20260425T112357
CREATED:20220624T201842Z
LAST-MODIFIED:20220705T234934Z
UID:36460-1656979200-1657065599@neumanngorettihs.org
SUMMARY:Summer Bridge Program
DESCRIPTION:
URL:https://neumanngorettihs.org/event/summer-bridge-program-7/
LOCATION:Roman Catholic High School\, 301 N Broad St\, Philadelphia\, PA 19107\, USA
END:VEVENT
BEGIN:VEVENT
DTSTART;VALUE=DATE:20220704
DTEND;VALUE=DATE:20220705
DTSTAMP:20260425T112357
CREATED:20210916T190148Z
LAST-MODIFIED:20220704T233249Z
UID:25137-1656892800-1656979199@neumanngorettihs.org
SUMMARY:4th of July
DESCRIPTION:
URL:https://neumanngorettihs.org/event/4th-of-july/
END:VEVENT
BEGIN:VEVENT
DTSTART;VALUE=DATE:20220701
DTEND;VALUE=DATE:20220702
DTSTAMP:20260425T112357
CREATED:20220624T201841Z
LAST-MODIFIED:20220701T235328Z
UID:36457-1656633600-1656719999@neumanngorettihs.org
SUMMARY:Summer Bridge Program
DESCRIPTION:
URL:https://neumanngorettihs.org/event/summer-bridge-program-4/
LOCATION:Roman Catholic High School\, 301 N Broad St\, Philadelphia\, PA 19107\, USA
END:VEVENT
BEGIN:VEVENT
DTSTART;VALUE=DATE:20220630
DTEND;VALUE=DATE:20220701
DTSTAMP:20260425T112357
CREATED:20220624T201841Z
LAST-MODIFIED:20220630T235103Z
UID:36458-1656547200-1656633599@neumanngorettihs.org
SUMMARY:Summer Bridge Program
DESCRIPTION:
URL:https://neumanngorettihs.org/event/summer-bridge-program-5/
LOCATION:Roman Catholic High School\, 301 N Broad St\, Philadelphia\, PA 19107\, USA
END:VEVENT
BEGIN:VEVENT
DTSTART;TZID=America/New_York:20220629T090000
DTEND;TZID=America/New_York:20220629T120000
DTSTAMP:20260425T112357
CREATED:20220613T193254Z
LAST-MODIFIED:20220629T154911Z
UID:35897-1656493200-1656504000@neumanngorettihs.org
SUMMARY:Academic Summer School Required In-Person Session
DESCRIPTION:
URL:https://neumanngorettihs.org/event/academic-summer-school-required-in-person-session-2/
END:VEVENT
BEGIN:VEVENT
DTSTART;VALUE=DATE:20220629
DTEND;VALUE=DATE:20220630
DTSTAMP:20260425T112357
CREATED:20220624T201842Z
LAST-MODIFIED:20220629T233400Z
UID:36459-1656460800-1656547199@neumanngorettihs.org
SUMMARY:Summer Bridge Program
DESCRIPTION:
URL:https://neumanngorettihs.org/event/summer-bridge-program-6/
LOCATION:Roman Catholic High School\, 301 N Broad St\, Philadelphia\, PA 19107\, USA
END:VEVENT
BEGIN:VEVENT
DTSTART;TZID=America/New_York:20220628T090000
DTEND;TZID=America/New_York:20220628T120000
DTSTAMP:20260425T112357
CREATED:20220613T193254Z
LAST-MODIFIED:20220628T154926Z
UID:35896-1656406800-1656417600@neumanngorettihs.org
SUMMARY:Academic Summer School Required In-Person Session
DESCRIPTION:
URL:https://neumanngorettihs.org/event/academic-summer-school-required-in-person-session/
END:VEVENT
BEGIN:VEVENT
DTSTART;VALUE=DATE:20220628
DTEND;VALUE=DATE:20220629
DTSTAMP:20260425T112357
CREATED:20220624T201841Z
LAST-MODIFIED:20220628T233248Z
UID:36455-1656374400-1656460799@neumanngorettihs.org
SUMMARY:Summer Bridge Program
DESCRIPTION:
URL:https://neumanngorettihs.org/event/summer-bridge-program-2/
LOCATION:Roman Catholic High School\, 301 N Broad St\, Philadelphia\, PA 19107\, USA
END:VEVENT
BEGIN:VEVENT
DTSTART;TZID=America/New_York:20220627T160000
DTEND;TZID=America/New_York:20220627T170000
DTSTAMP:20260425T112357
CREATED:20220613T193254Z
LAST-MODIFIED:20220627T205058Z
UID:35895-1656345600-1656349200@neumanngorettihs.org
SUMMARY:Educere Academic Summer School Parent/Student Meeting
DESCRIPTION:This event has a video call.Join: https://meet.google.com/isk-ebiv-xju(US) +1 502-738-3057 PIN: 813833092#
URL:https://neumanngorettihs.org/event/educere-academic-summer-school-parent-student-meeting-2/
END:VEVENT
BEGIN:VEVENT
DTSTART;TZID=America/New_York:20220627T090000
DTEND;TZID=America/New_York:20220627T100000
DTSTAMP:20260425T112357
CREATED:20220613T193254Z
LAST-MODIFIED:20220627T135010Z
UID:35894-1656320400-1656324000@neumanngorettihs.org
SUMMARY:Educere Academic Summer School Parent/Student Meeting
DESCRIPTION:This event has a video call.Join: https://meet.google.com/pzm-vuzc-fxn(US) +1 530-454-7178 PIN: 959385678#
URL:https://neumanngorettihs.org/event/educere-academic-summer-school-parent-student-meeting/
END:VEVENT
BEGIN:VEVENT
DTSTART;VALUE=DATE:20220627
DTEND;VALUE=DATE:20220628
DTSTAMP:20260425T112357
CREATED:20220624T201841Z
LAST-MODIFIED:20220627T233847Z
UID:36456-1656288000-1656374399@neumanngorettihs.org
SUMMARY:Summer Bridge Program
DESCRIPTION:
URL:https://neumanngorettihs.org/event/summer-bridge-program-3/
LOCATION:Roman Catholic High School\, 301 N Broad St\, Philadelphia\, PA 19107\, USA
END:VEVENT
BEGIN:VEVENT
DTSTART;VALUE=DATE:20220624
DTEND;VALUE=DATE:20220625
DTSTAMP:20260425T112357
CREATED:20220624T201840Z
LAST-MODIFIED:20220624T233648Z
UID:36453-1656028800-1656115199@neumanngorettihs.org
SUMMARY:Summer Bridge Program
DESCRIPTION:
URL:https://neumanngorettihs.org/event/summer-bridge-program/
LOCATION:Roman Catholic High School\, 301 N Broad St\, Philadelphia\, PA 19107\, USA
END:VEVENT
BEGIN:VEVENT
DTSTART;TZID=America/New_York:20220622T090000
DTEND;TZID=America/New_York:20220622T140000
DTSTAMP:20260425T112357
CREATED:20220613T193253Z
LAST-MODIFIED:20220622T173335Z
UID:35893-1655888400-1655906400@neumanngorettihs.org
SUMMARY:Academic Summer School Registration
DESCRIPTION:
URL:https://neumanngorettihs.org/event/academic-summer-school-registration-2/
END:VEVENT
BEGIN:VEVENT
DTSTART;TZID=America/New_York:20220621T090000
DTEND;TZID=America/New_York:20220621T140000
DTSTAMP:20260425T112357
CREATED:20220613T193253Z
LAST-MODIFIED:20220621T174804Z
UID:35892-1655802000-1655820000@neumanngorettihs.org
SUMMARY:Academic Summer School Registration
DESCRIPTION:
URL:https://neumanngorettihs.org/event/academic-summer-school-registration/
END:VEVENT
BEGIN:VEVENT
DTSTART;VALUE=DATE:20220620
DTEND;VALUE=DATE:20220621
DTSTAMP:20260425T112357
CREATED:20220613T193253Z
LAST-MODIFIED:20220620T235507Z
UID:35891-1655683200-1655769599@neumanngorettihs.org
SUMMARY:Juneteenth - School holiday - building closed
DESCRIPTION:
URL:https://neumanngorettihs.org/event/juneteenth-school-holiday-building-closed/
END:VEVENT
BEGIN:VEVENT
DTSTART;VALUE=DATE:20220617
DTEND;VALUE=DATE:20220618
DTSTAMP:20260425T112357
CREATED:20210916T190148Z
LAST-MODIFIED:20220617T233339Z
UID:25136-1655424000-1655510399@neumanngorettihs.org
SUMMARY:2nd Semester/4th Quarter Ends
DESCRIPTION:
URL:https://neumanngorettihs.org/event/2nd-semester-4th-quarter-ends/
END:VEVENT
BEGIN:VEVENT
DTSTART;VALUE=DATE:20220616
DTEND;VALUE=DATE:20220617
DTSTAMP:20260425T112357
CREATED:20220408T140315Z
LAST-MODIFIED:20220616T233303Z
UID:32656-1655337600-1655423999@neumanngorettihs.org
SUMMARY:Freshmen Only
DESCRIPTION:
URL:https://neumanngorettihs.org/event/freshmen-only/
END:VEVENT
BEGIN:VEVENT
DTSTART;VALUE=DATE:20220615
DTEND;VALUE=DATE:20220616
DTSTAMP:20260425T112357
CREATED:20220408T140315Z
LAST-MODIFIED:20220615T234834Z
UID:32654-1655251200-1655337599@neumanngorettihs.org
SUMMARY:Sophomores Only
DESCRIPTION:
URL:https://neumanngorettihs.org/event/sophomores-only/
END:VEVENT
BEGIN:VEVENT
DTSTART;VALUE=DATE:20220614
DTEND;VALUE=DATE:20220615
DTSTAMP:20260425T112357
CREATED:20220408T140315Z
LAST-MODIFIED:20220614T233324Z
UID:32655-1655164800-1655251199@neumanngorettihs.org
SUMMARY:Juniors Only
DESCRIPTION:
URL:https://neumanngorettihs.org/event/juniors-only/
END:VEVENT
BEGIN:VEVENT
DTSTART;VALUE=DATE:20220610
DTEND;VALUE=DATE:20220611
DTSTAMP:20260425T112357
CREATED:20220503T191741Z
LAST-MODIFIED:20220610T234811Z
UID:33838-1654819200-1654905599@neumanngorettihs.org
SUMMARY:Underclass Exams
DESCRIPTION:
URL:https://neumanngorettihs.org/event/underclass-exams-2/
END:VEVENT
BEGIN:VEVENT
DTSTART;TZID=America/New_York:20220609T100000
DTEND;TZID=America/New_York:20220609T113000
DTSTAMP:20260425T112357
CREATED:20220421T173303Z
LAST-MODIFIED:20220609T152149Z
UID:33319-1654768800-1654774200@neumanngorettihs.org
SUMMARY:Graduation
DESCRIPTION:
URL:https://neumanngorettihs.org/event/graduation-2/
END:VEVENT
BEGIN:VEVENT
DTSTART;TZID=America/New_York:20220609T100000
DTEND;TZID=America/New_York:20220609T113000
DTSTAMP:20260425T112357
CREATED:20210930T145242Z
LAST-MODIFIED:20220609T152149Z
UID:25822-1654768800-1654774200@neumanngorettihs.org
SUMMARY:Graduation
DESCRIPTION:
URL:https://neumanngorettihs.org/event/graduation/
LOCATION:Subaru Park\, 2501 Seaport Dr\, Chester\, PA 19013\, USA
END:VEVENT
BEGIN:VEVENT
DTSTART;TZID=America/New_York:20220608T170000
DTEND;TZID=America/New_York:20220608T183000
DTSTAMP:20260425T112357
CREATED:20210930T145242Z
LAST-MODIFIED:20220608T220245Z
UID:25823-1654707600-1654713000@neumanngorettihs.org
SUMMARY:Baccalaureate Mass
DESCRIPTION:
URL:https://neumanngorettihs.org/event/baccalaureate-mass/
END:VEVENT
BEGIN:VEVENT
DTSTART;TZID=America/New_York:20220608T170000
DTEND;TZID=America/New_York:20220608T180000
DTSTAMP:20260425T112357
CREATED:20220421T173303Z
LAST-MODIFIED:20220608T213408Z
UID:33320-1654707600-1654711200@neumanngorettihs.org
SUMMARY:Baccaulareate
DESCRIPTION:
URL:https://neumanngorettihs.org/event/baccaulareate/
END:VEVENT
BEGIN:VEVENT
DTSTART;TZID=America/New_York:20220608T144500
DTEND;TZID=America/New_York:20220608T154500
DTSTAMP:20260425T112357
CREATED:20210916T190147Z
LAST-MODIFIED:20220608T191807Z
UID:25133-1654699500-1654703100@neumanngorettihs.org
SUMMARY:Department Meeting
DESCRIPTION:
URL:https://neumanngorettihs.org/event/department-meeting-11/
END:VEVENT
BEGIN:VEVENT
DTSTART;VALUE=DATE:20220606
DTEND;VALUE=DATE:20220607
DTSTAMP:20260425T112357
CREATED:20220421T173303Z
LAST-MODIFIED:20220606T234743Z
UID:33317-1654473600-1654559999@neumanngorettihs.org
SUMMARY:Graduation Practice
DESCRIPTION:
URL:https://neumanngorettihs.org/event/graduation-practice/
END:VEVENT
BEGIN:VEVENT
DTSTART;VALUE=DATE:20220606
DTEND;VALUE=DATE:20220609
DTSTAMP:20260425T112357
CREATED:20210916T190147Z
LAST-MODIFIED:20220608T233257Z
UID:25134-1654473600-1654732799@neumanngorettihs.org
SUMMARY:Underclass Exams
DESCRIPTION:
URL:https://neumanngorettihs.org/event/underclass-exams/
END:VEVENT
BEGIN:VEVENT
DTSTART;TZID=America/New_York:20220601T144500
DTEND;TZID=America/New_York:20220601T154500
DTSTAMP:20260425T112357
CREATED:20210916T190147Z
LAST-MODIFIED:20220601T193555Z
UID:25131-1654094700-1654098300@neumanngorettihs.org
SUMMARY:Academic Board
DESCRIPTION:
URL:https://neumanngorettihs.org/event/academic-board-9/
END:VEVENT
BEGIN:VEVENT
DTSTART;VALUE=DATE:20220601
DTEND;VALUE=DATE:20220604
DTSTAMP:20260425T112357
CREATED:20210916T190147Z
LAST-MODIFIED:20220603T233238Z
UID:25132-1654041600-1654300799@neumanngorettihs.org
SUMMARY:Senior Exams
DESCRIPTION:
URL:https://neumanngorettihs.org/event/senior-exams/
END:VEVENT
BEGIN:VEVENT
DTSTART;VALUE=DATE:20220530
DTEND;VALUE=DATE:20220531
DTSTAMP:20260425T112357
CREATED:20210916T190147Z
LAST-MODIFIED:20220530T233617Z
UID:25130-1653868800-1653955199@neumanngorettihs.org
SUMMARY:Memorial Day
DESCRIPTION:
URL:https://neumanngorettihs.org/event/memorial-day/
END:VEVENT
END:VCALENDAR