BEGIN:VCALENDAR
VERSION:2.0
PRODID:-//Ss. Neumann Goretti High School - ECPv6.15.13.1//NONSGML v1.0//EN
CALSCALE:GREGORIAN
METHOD:PUBLISH
X-WR-CALNAME:Ss. Neumann Goretti High School
X-ORIGINAL-URL:https://neumanngorettihs.org
X-WR-CALDESC:Events for Ss. Neumann Goretti High School
REFRESH-INTERVAL;VALUE=DURATION:PT1H
X-Robots-Tag:noindex
X-PUBLISHED-TTL:PT1H
BEGIN:VTIMEZONE
TZID:America/New_York
BEGIN:DAYLIGHT
TZOFFSETFROM:-0500
TZOFFSETTO:-0400
TZNAME:EDT
DTSTART:20210314T070000
END:DAYLIGHT
BEGIN:STANDARD
TZOFFSETFROM:-0400
TZOFFSETTO:-0500
TZNAME:EST
DTSTART:20211107T060000
END:STANDARD
BEGIN:DAYLIGHT
TZOFFSETFROM:-0500
TZOFFSETTO:-0400
TZNAME:EDT
DTSTART:20220313T070000
END:DAYLIGHT
BEGIN:STANDARD
TZOFFSETFROM:-0400
TZOFFSETTO:-0500
TZNAME:EST
DTSTART:20221106T060000
END:STANDARD
BEGIN:DAYLIGHT
TZOFFSETFROM:-0500
TZOFFSETTO:-0400
TZNAME:EDT
DTSTART:20230312T070000
END:DAYLIGHT
BEGIN:STANDARD
TZOFFSETFROM:-0400
TZOFFSETTO:-0500
TZNAME:EST
DTSTART:20231105T060000
END:STANDARD
END:VTIMEZONE
BEGIN:VEVENT
DTSTART;VALUE=DATE:20221204
DTEND;VALUE=DATE:20221205
DTSTAMP:20260420T064900
CREATED:20220808T151809Z
LAST-MODIFIED:20221204T234437Z
UID:38652-1670112000-1670198399@neumanngorettihs.org
SUMMARY:Alumni Communion Breakfast
DESCRIPTION:
URL:https://neumanngorettihs.org/event/alumni-communion-breakfast/
LOCATION:PA
END:VEVENT
BEGIN:VEVENT
DTSTART;VALUE=DATE:20221202
DTEND;VALUE=DATE:20221203
DTSTAMP:20260420T064900
CREATED:20220726T154958Z
LAST-MODIFIED:20221202T235835Z
UID:37924-1669939200-1670025599@neumanngorettihs.org
SUMMARY:Senior Retreat
DESCRIPTION:
URL:https://neumanngorettihs.org/event/senior-retreat-3/
LOCATION:PA
END:VEVENT
BEGIN:VEVENT
DTSTART;TZID=America/New_York:20221201T170000
DTEND;TZID=America/New_York:20221201T210000
DTSTAMP:20260420T064900
CREATED:20221127T211459Z
LAST-MODIFIED:20221202T014309Z
UID:42339-1669914000-1669928400@neumanngorettihs.org
SUMMARY:Parking Lot Rental
DESCRIPTION:
URL:https://neumanngorettihs.org/event/parking-lot-rental/
LOCATION:PA
END:VEVENT
BEGIN:VEVENT
DTSTART;VALUE=DATE:20221128
DTEND;VALUE=DATE:20221129
DTSTAMP:20260420T064900
CREATED:20220726T154958Z
LAST-MODIFIED:20221128T234940Z
UID:37923-1669593600-1669679999@neumanngorettihs.org
SUMMARY:Classes Resume
DESCRIPTION:
URL:https://neumanngorettihs.org/event/classes-resume/
LOCATION:PA
END:VEVENT
BEGIN:VEVENT
DTSTART;VALUE=DATE:20221125
DTEND;VALUE=DATE:20221126
DTSTAMP:20260420T064900
CREATED:20220726T154957Z
LAST-MODIFIED:20221120T205815Z
UID:37922-1669334400-1669420799@neumanngorettihs.org
SUMMARY:Thanksgiving Holiday (No School)
DESCRIPTION:
URL:https://neumanngorettihs.org/event/thanksgiving-holiday-no-school/
LOCATION:PA
END:VEVENT
BEGIN:VEVENT
DTSTART;VALUE=DATE:20221124
DTEND;VALUE=DATE:20221125
DTSTAMP:20260420T064900
CREATED:20220726T154957Z
LAST-MODIFIED:20221120T205815Z
UID:37920-1669248000-1669334399@neumanngorettihs.org
SUMMARY:Thanksgiving (No School)
DESCRIPTION:
URL:https://neumanngorettihs.org/event/thanksgiving-no-school/
LOCATION:PA
END:VEVENT
BEGIN:VEVENT
DTSTART;VALUE=DATE:20221123
DTEND;VALUE=DATE:20221124
DTSTAMP:20260420T064900
CREATED:20220726T154957Z
LAST-MODIFIED:20221120T205815Z
UID:37921-1669161600-1669247999@neumanngorettihs.org
SUMMARY:Spirit Day
DESCRIPTION:
URL:https://neumanngorettihs.org/event/spirit-day-2/
LOCATION:PA
END:VEVENT
BEGIN:VEVENT
DTSTART;TZID=America/New_York:20221122T160000
DTEND;TZID=America/New_York:20221122T180000
DTSTAMP:20260420T064900
CREATED:20220726T154957Z
LAST-MODIFIED:20221120T205815Z
UID:37919-1669132800-1669140000@neumanngorettihs.org
SUMMARY:Parent-Teacher Conferences
DESCRIPTION:
URL:https://neumanngorettihs.org/event/parent-teacher-conferences-4/
LOCATION:PA
END:VEVENT
BEGIN:VEVENT
DTSTART;VALUE=DATE:20221119
DTEND;VALUE=DATE:20221120
DTSTAMP:20260420T064900
CREATED:20220726T154957Z
LAST-MODIFIED:20221119T004814Z
UID:37918-1668816000-1668902399@neumanngorettihs.org
SUMMARY:National Catholic Youth Conference at Immaculata University
DESCRIPTION:
URL:https://neumanngorettihs.org/event/national-catholic-youth-conference-at-immaculata-university/
LOCATION:PA
END:VEVENT
BEGIN:VEVENT
DTSTART;TZID=America/New_York:20221116T144500
DTEND;TZID=America/New_York:20221116T154500
DTSTAMP:20260420T064900
CREATED:20220726T152115Z
LAST-MODIFIED:20221116T203927Z
UID:37881-1668609900-1668613500@neumanngorettihs.org
SUMMARY:Faculty Meetings
DESCRIPTION:
URL:https://neumanngorettihs.org/event/faculty-meetings/
LOCATION:PA
END:VEVENT
BEGIN:VEVENT
DTSTART;VALUE=DATE:20221116
DTEND;VALUE=DATE:20221117
DTSTAMP:20260420T064900
CREATED:20220808T151808Z
LAST-MODIFIED:20221116T232010Z
UID:38651-1668556800-1668643199@neumanngorettihs.org
SUMMARY:Millay Scholars Dinner
DESCRIPTION:
URL:https://neumanngorettihs.org/event/millay-scholars-dinner/
LOCATION:PA
END:VEVENT
BEGIN:VEVENT
DTSTART;VALUE=DATE:20221114
DTEND;VALUE=DATE:20221115
DTSTAMP:20260420T064900
CREATED:20220726T152115Z
LAST-MODIFIED:20221114T234853Z
UID:37880-1668384000-1668470399@neumanngorettihs.org
SUMMARY:Quarter 2 Begins
DESCRIPTION:
URL:https://neumanngorettihs.org/event/quarter-2-begins/
LOCATION:PA
END:VEVENT
BEGIN:VEVENT
DTSTART;TZID=America/New_York:20221111T143000
DTEND;TZID=America/New_York:20221111T153000
DTSTAMP:20260420T064900
CREATED:20221110T201900Z
LAST-MODIFIED:20221111T200437Z
UID:41999-1668177000-1668180600@neumanngorettihs.org
SUMMARY:Shawn Battle All American Game Presentation
DESCRIPTION:Join with Google Meet: https://meet.google.com/ugf-gykj-pbrOr dial: (US) +1 209-730-7329 PIN: 516092959# \nLearn more about Meet at: https://support.google.com/a/users/answer/9282720
URL:https://neumanngorettihs.org/event/shawn-battle-all-american-game-presentation/
LOCATION:PA
END:VEVENT
BEGIN:VEVENT
DTSTART;VALUE=DATE:20221111
DTEND;VALUE=DATE:20221112
DTSTAMP:20260420T064900
CREATED:20220726T152115Z
LAST-MODIFIED:20221111T233610Z
UID:37879-1668124800-1668211199@neumanngorettihs.org
SUMMARY:Quarter 1 Ends
DESCRIPTION:
URL:https://neumanngorettihs.org/event/quarter-1-ends/
LOCATION:PA
END:VEVENT
BEGIN:VEVENT
DTSTART;TZID=America/New_York:20221109T180000
DTEND;TZID=America/New_York:20221109T190000
DTSTAMP:20260420T064900
CREATED:20221027T114829Z
LAST-MODIFIED:20221109T233339Z
UID:41430-1668016800-1668020400@neumanngorettihs.org
SUMMARY:Student Council Induction
DESCRIPTION:
URL:https://neumanngorettihs.org/event/student-council-induction/
LOCATION:PA
END:VEVENT
BEGIN:VEVENT
DTSTART;TZID=America/New_York:20221109T144500
DTEND;TZID=America/New_York:20221109T154500
DTSTAMP:20260420T064900
CREATED:20220726T152115Z
LAST-MODIFIED:20221109T201738Z
UID:37878-1668005100-1668008700@neumanngorettihs.org
SUMMARY:Department Meeting
DESCRIPTION:
URL:https://neumanngorettihs.org/event/department-meeting-14/
LOCATION:PA
END:VEVENT
BEGIN:VEVENT
DTSTART;VALUE=DATE:20221105
DTEND;VALUE=DATE:20221106
DTSTAMP:20260420T064900
CREATED:20220726T152115Z
LAST-MODIFIED:20221105T232722Z
UID:37877-1667606400-1667692799@neumanngorettihs.org
SUMMARY:Entrance Exam #3
DESCRIPTION:
URL:https://neumanngorettihs.org/event/entrance-exam-3/
LOCATION:PA
END:VEVENT
BEGIN:VEVENT
DTSTART;TZID=America/New_York:20221102T144500
DTEND;TZID=America/New_York:20221102T154500
DTSTAMP:20260420T064900
CREATED:20220726T152115Z
LAST-MODIFIED:20221102T192231Z
UID:37876-1667400300-1667403900@neumanngorettihs.org
SUMMARY:Academic Council
DESCRIPTION:
URL:https://neumanngorettihs.org/event/academic-council-2/
LOCATION:PA
END:VEVENT
BEGIN:VEVENT
DTSTART;VALUE=DATE:20221102
DTEND;VALUE=DATE:20221103
DTSTAMP:20260420T064900
CREATED:20210916T190148Z
LAST-MODIFIED:20221102T235218Z
UID:25139-1667347200-1667433599@neumanngorettihs.org
SUMMARY:All Souls Day
DESCRIPTION:
URL:https://neumanngorettihs.org/event/all-souls-day-2/
LOCATION:PA
END:VEVENT
BEGIN:VEVENT
DTSTART;VALUE=DATE:20221101
DTEND;VALUE=DATE:20221102
DTSTAMP:20260420T064900
CREATED:20220726T152115Z
LAST-MODIFIED:20221101T233342Z
UID:37875-1667260800-1667347199@neumanngorettihs.org
SUMMARY:All Saints Day (Holy Day; No School)
DESCRIPTION:
URL:https://neumanngorettihs.org/event/all-saints-day-holy-day-no-school/
LOCATION:PA
END:VEVENT
BEGIN:VEVENT
DTSTART;VALUE=DATE:20221031
DTEND;VALUE=DATE:20221101
DTSTAMP:20260420T064900
CREATED:20220726T152115Z
LAST-MODIFIED:20221031T232035Z
UID:37874-1667174400-1667260799@neumanngorettihs.org
SUMMARY:Local Professional Development (No School for Students)
DESCRIPTION:
URL:https://neumanngorettihs.org/event/local-professional-development-no-school-for-students/
LOCATION:PA
END:VEVENT
BEGIN:VEVENT
DTSTART;TZID=America/New_York:20221029T120000
DTEND;TZID=America/New_York:20221029T130000
DTSTAMP:20260420T064900
CREATED:20220726T152114Z
LAST-MODIFIED:20221028T195908Z
UID:37873-1667044800-1667048400@neumanngorettihs.org
SUMMARY:Homecoming Game
DESCRIPTION:
URL:https://neumanngorettihs.org/event/homecoming-game-2/
LOCATION:PA
END:VEVENT
BEGIN:VEVENT
DTSTART;TZID=America/New_York:20221028T190000
DTEND;TZID=America/New_York:20221028T220000
DTSTAMP:20260420T064900
CREATED:20220726T152114Z
LAST-MODIFIED:20221028T195908Z
UID:37872-1666983600-1666994400@neumanngorettihs.org
SUMMARY:Homecoming Dance
DESCRIPTION:
URL:https://neumanngorettihs.org/event/homecoming-dance-2/
LOCATION:PA
END:VEVENT
BEGIN:VEVENT
DTSTART;VALUE=DATE:20221027
DTEND;VALUE=DATE:20221028
DTSTAMP:20260420T064900
CREATED:20220726T152114Z
LAST-MODIFIED:20221027T233653Z
UID:37870-1666828800-1666915199@neumanngorettihs.org
SUMMARY:SAT School Day
DESCRIPTION:
URL:https://neumanngorettihs.org/event/sat-school-day-3/
LOCATION:PA
END:VEVENT
BEGIN:VEVENT
DTSTART;VALUE=DATE:20221027
DTEND;VALUE=DATE:20221028
DTSTAMP:20260420T064900
CREATED:20220726T152114Z
LAST-MODIFIED:20221027T233653Z
UID:37871-1666828800-1666915199@neumanngorettihs.org
SUMMARY:Freshman Retreat
DESCRIPTION:
URL:https://neumanngorettihs.org/event/freshman-retreat/
LOCATION:PA
END:VEVENT
BEGIN:VEVENT
DTSTART;TZID=America/New_York:20221026T144500
DTEND;TZID=America/New_York:20221026T154500
DTSTAMP:20260420T064900
CREATED:20220726T152114Z
LAST-MODIFIED:20221026T191004Z
UID:37869-1666795500-1666799100@neumanngorettihs.org
SUMMARY:Faculty Meeting
DESCRIPTION:
URL:https://neumanngorettihs.org/event/faculty-meeting-19/
LOCATION:PA
END:VEVENT
BEGIN:VEVENT
DTSTART;TZID=America/New_York:20221019T180000
DTEND;TZID=America/New_York:20221019T193000
DTSTAMP:20260420T064900
CREATED:20211001T192246Z
LAST-MODIFIED:20221018T165017Z
UID:25914-1666202400-1666207800@neumanngorettihs.org
SUMMARY:FAFSA Completion Night
DESCRIPTION:
URL:https://neumanngorettihs.org/event/fafsa-completion-night/
LOCATION:PA
END:VEVENT
BEGIN:VEVENT
DTSTART;TZID=America/New_York:20221019T144500
DTEND;TZID=America/New_York:20221019T154500
DTSTAMP:20260420T064900
CREATED:20220726T152114Z
LAST-MODIFIED:20221018T165017Z
UID:37868-1666190700-1666194300@neumanngorettihs.org
SUMMARY:Department Meeting
DESCRIPTION:
URL:https://neumanngorettihs.org/event/department-meeting-13/
LOCATION:PA
END:VEVENT
BEGIN:VEVENT
DTSTART;TZID=America/New_York:20221012T180000
DTEND;TZID=America/New_York:20221012T210000
DTSTAMP:20260420T064900
CREATED:20220726T152114Z
LAST-MODIFIED:20221013T002158Z
UID:37867-1665597600-1665608400@neumanngorettihs.org
SUMMARY:Ring Dance
DESCRIPTION:
URL:https://neumanngorettihs.org/event/ring-dance-2/
LOCATION:PA
END:VEVENT
BEGIN:VEVENT
DTSTART;VALUE=DATE:20221012
DTEND;VALUE=DATE:20221013
DTSTAMP:20260420T064900
CREATED:20220726T152114Z
LAST-MODIFIED:20221012T234931Z
UID:37866-1665532800-1665619199@neumanngorettihs.org
SUMMARY:PSAT Testing
DESCRIPTION:
URL:https://neumanngorettihs.org/event/psat-testing/
LOCATION:PA
END:VEVENT
END:VCALENDAR