BEGIN:VCALENDAR
VERSION:2.0
PRODID:-//Ss. Neumann Goretti High School - ECPv6.15.13.1//NONSGML v1.0//EN
CALSCALE:GREGORIAN
METHOD:PUBLISH
X-WR-CALNAME:Ss. Neumann Goretti High School
X-ORIGINAL-URL:https://neumanngorettihs.org
X-WR-CALDESC:Events for Ss. Neumann Goretti High School
REFRESH-INTERVAL;VALUE=DURATION:PT1H
X-Robots-Tag:noindex
X-PUBLISHED-TTL:PT1H
BEGIN:VTIMEZONE
TZID:America/New_York
BEGIN:DAYLIGHT
TZOFFSETFROM:-0500
TZOFFSETTO:-0400
TZNAME:EDT
DTSTART:20220313T070000
END:DAYLIGHT
BEGIN:STANDARD
TZOFFSETFROM:-0400
TZOFFSETTO:-0500
TZNAME:EST
DTSTART:20221106T060000
END:STANDARD
BEGIN:DAYLIGHT
TZOFFSETFROM:-0500
TZOFFSETTO:-0400
TZNAME:EDT
DTSTART:20230312T070000
END:DAYLIGHT
BEGIN:STANDARD
TZOFFSETFROM:-0400
TZOFFSETTO:-0500
TZNAME:EST
DTSTART:20231105T060000
END:STANDARD
BEGIN:DAYLIGHT
TZOFFSETFROM:-0500
TZOFFSETTO:-0400
TZNAME:EDT
DTSTART:20240310T070000
END:DAYLIGHT
BEGIN:STANDARD
TZOFFSETFROM:-0400
TZOFFSETTO:-0500
TZNAME:EST
DTSTART:20241103T060000
END:STANDARD
END:VTIMEZONE
BEGIN:VEVENT
DTSTART;VALUE=DATE:20230129
DTEND;VALUE=DATE:20230205
DTSTAMP:20260424T154153
CREATED:20220726T155000Z
LAST-MODIFIED:20230204T235920Z
UID:37950-1674950400-1675555199@neumanngorettihs.org
SUMMARY:Catholic Schools Week
DESCRIPTION:
URL:https://neumanngorettihs.org/event/catholic-schools-week-2/
END:VEVENT
BEGIN:VEVENT
DTSTART;TZID=America/New_York:20230201T144500
DTEND;TZID=America/New_York:20230201T154500
DTSTAMP:20260424T154153
CREATED:20220726T155000Z
LAST-MODIFIED:20230201T202832Z
UID:37949-1675262700-1675266300@neumanngorettihs.org
SUMMARY:Academic Council
DESCRIPTION:
URL:https://neumanngorettihs.org/event/academic-council-5/
END:VEVENT
BEGIN:VEVENT
DTSTART;VALUE=DATE:20230202
DTEND;VALUE=DATE:20230203
DTSTAMP:20260424T154153
CREATED:20220726T154959Z
LAST-MODIFIED:20230202T235810Z
UID:37941-1675296000-1675382399@neumanngorettihs.org
SUMMARY:Accepted Student Night
DESCRIPTION:
URL:https://neumanngorettihs.org/event/accepted-student-night-2/
END:VEVENT
BEGIN:VEVENT
DTSTART;TZID=America/New_York:20230208T144500
DTEND;TZID=America/New_York:20230208T154500
DTSTAMP:20260424T154153
CREATED:20220726T155000Z
LAST-MODIFIED:20230208T203323Z
UID:37951-1675867500-1675871100@neumanngorettihs.org
SUMMARY:Department Meeting
DESCRIPTION:
URL:https://neumanngorettihs.org/event/department-meeting-17/
END:VEVENT
BEGIN:VEVENT
DTSTART;TZID=America/New_York:20230209T160000
DTEND;TZID=America/New_York:20230209T180000
DTSTAMP:20260424T154153
CREATED:20220726T155000Z
LAST-MODIFIED:20230209T224649Z
UID:37952-1675958400-1675965600@neumanngorettihs.org
SUMMARY:Parent-Teacher Conferences
DESCRIPTION:
URL:https://neumanngorettihs.org/event/parent-teacher-conferences-5/
END:VEVENT
BEGIN:VEVENT
DTSTART;VALUE=DATE:20230210
DTEND;VALUE=DATE:20230211
DTSTAMP:20260424T154153
CREATED:20230206T124345Z
LAST-MODIFIED:20230210T235856Z
UID:45675-1675987200-1676073599@neumanngorettihs.org
SUMMARY:Principal's Holiday (No School)
DESCRIPTION:
URL:https://neumanngorettihs.org/event/principals-holiday-no-school-4/
END:VEVENT
BEGIN:VEVENT
DTSTART;TZID=America/New_York:20230215T144500
DTEND;TZID=America/New_York:20230215T154500
DTSTAMP:20260424T154153
CREATED:20220726T155000Z
LAST-MODIFIED:20230215T202957Z
UID:37953-1676472300-1676475900@neumanngorettihs.org
SUMMARY:Faculty Meeting
DESCRIPTION:
URL:https://neumanngorettihs.org/event/faculty-meeting-22/
END:VEVENT
BEGIN:VEVENT
DTSTART;VALUE=DATE:20230218
DTEND;VALUE=DATE:20230219
DTSTAMP:20260424T154153
CREATED:20220726T161749Z
LAST-MODIFIED:20230218T230352Z
UID:38032-1676678400-1676764799@neumanngorettihs.org
SUMMARY:Freshman-Sophomore Dance
DESCRIPTION:
URL:https://neumanngorettihs.org/event/freshman-sophomore-dance/
END:VEVENT
BEGIN:VEVENT
DTSTART;VALUE=DATE:20230220
DTEND;VALUE=DATE:20230221
DTSTAMP:20260424T154153
CREATED:20220726T155000Z
LAST-MODIFIED:20230220T233102Z
UID:37954-1676851200-1676937599@neumanngorettihs.org
SUMMARY:President's Day (No School)
DESCRIPTION:
URL:https://neumanngorettihs.org/event/presidents-day-no-school/
END:VEVENT
BEGIN:VEVENT
DTSTART;VALUE=DATE:20230222
DTEND;VALUE=DATE:20230223
DTSTAMP:20260424T154153
CREATED:20220727T171806Z
LAST-MODIFIED:20230222T232926Z
UID:38150-1677024000-1677110399@neumanngorettihs.org
SUMMARY:Ash Wednesday
DESCRIPTION:
URL:https://neumanngorettihs.org/event/ash-wednesday-2/
END:VEVENT
BEGIN:VEVENT
DTSTART;VALUE=DATE:20230223
DTEND;VALUE=DATE:20230224
DTSTAMP:20260424T154153
CREATED:20220726T155000Z
LAST-MODIFIED:20230223T234346Z
UID:37955-1677110400-1677196799@neumanngorettihs.org
SUMMARY:Junior Retreat
DESCRIPTION:
URL:https://neumanngorettihs.org/event/junior-retreat-2/
END:VEVENT
BEGIN:VEVENT
DTSTART;VALUE=DATE:20230227
DTEND;VALUE=DATE:20230228
DTSTAMP:20260424T154153
CREATED:20220726T155000Z
LAST-MODIFIED:20230227T233031Z
UID:37956-1677456000-1677542399@neumanngorettihs.org
SUMMARY:Progress Reports
DESCRIPTION:
URL:https://neumanngorettihs.org/event/progress-reports-7/
END:VEVENT
END:VCALENDAR