BEGIN:VCALENDAR
VERSION:2.0
PRODID:-//Ss. Neumann Goretti High School - ECPv6.15.13.1//NONSGML v1.0//EN
CALSCALE:GREGORIAN
METHOD:PUBLISH
X-WR-CALNAME:Ss. Neumann Goretti High School
X-ORIGINAL-URL:https://neumanngorettihs.org
X-WR-CALDESC:Events for Ss. Neumann Goretti High School
REFRESH-INTERVAL;VALUE=DURATION:PT1H
X-Robots-Tag:noindex
X-PUBLISHED-TTL:PT1H
BEGIN:VTIMEZONE
TZID:America/New_York
BEGIN:DAYLIGHT
TZOFFSETFROM:-0500
TZOFFSETTO:-0400
TZNAME:EDT
DTSTART:20210314T070000
END:DAYLIGHT
BEGIN:STANDARD
TZOFFSETFROM:-0400
TZOFFSETTO:-0500
TZNAME:EST
DTSTART:20211107T060000
END:STANDARD
BEGIN:DAYLIGHT
TZOFFSETFROM:-0500
TZOFFSETTO:-0400
TZNAME:EDT
DTSTART:20220313T070000
END:DAYLIGHT
BEGIN:STANDARD
TZOFFSETFROM:-0400
TZOFFSETTO:-0500
TZNAME:EST
DTSTART:20221106T060000
END:STANDARD
BEGIN:DAYLIGHT
TZOFFSETFROM:-0500
TZOFFSETTO:-0400
TZNAME:EDT
DTSTART:20230312T070000
END:DAYLIGHT
BEGIN:STANDARD
TZOFFSETFROM:-0400
TZOFFSETTO:-0500
TZNAME:EST
DTSTART:20231105T060000
END:STANDARD
BEGIN:DAYLIGHT
TZOFFSETFROM:-0500
TZOFFSETTO:-0400
TZNAME:EDT
DTSTART:20240310T070000
END:DAYLIGHT
BEGIN:STANDARD
TZOFFSETFROM:-0400
TZOFFSETTO:-0500
TZNAME:EST
DTSTART:20241103T060000
END:STANDARD
BEGIN:DAYLIGHT
TZOFFSETFROM:-0500
TZOFFSETTO:-0400
TZNAME:EDT
DTSTART:20250309T070000
END:DAYLIGHT
BEGIN:STANDARD
TZOFFSETFROM:-0400
TZOFFSETTO:-0500
TZNAME:EST
DTSTART:20251102T060000
END:STANDARD
END:VTIMEZONE
BEGIN:VEVENT
DTSTART;TZID=America/New_York:20240404T160000
DTEND;TZID=America/New_York:20240404T190000
DTSTAMP:20260420T081651
CREATED:20240227T001454Z
LAST-MODIFIED:20240404T223004Z
UID:63438-1712246400-1712257200@neumanngorettihs.org
SUMMARY:JV Baseball
DESCRIPTION:
URL:https://neumanngorettihs.org/event/jv-baseball/
LOCATION:Roman Catholic High School\, 301 N Broad St\, Philadelphia\, PA 19107\, USA
END:VEVENT
BEGIN:VEVENT
DTSTART;VALUE=DATE:20220721
DTEND;VALUE=DATE:20220722
DTSTAMP:20260420T081651
CREATED:20220624T201845Z
LAST-MODIFIED:20220721T235024Z
UID:36472-1658361600-1658447999@neumanngorettihs.org
SUMMARY:Summer Bridge Program
DESCRIPTION:
URL:https://neumanngorettihs.org/event/summer-bridge-program-19/
LOCATION:Roman Catholic High School\, 301 N Broad St\, Philadelphia\, PA 19107\, USA
END:VEVENT
BEGIN:VEVENT
DTSTART;VALUE=DATE:20220720
DTEND;VALUE=DATE:20220721
DTSTAMP:20260420T081651
CREATED:20220624T201845Z
LAST-MODIFIED:20220720T233617Z
UID:36471-1658275200-1658361599@neumanngorettihs.org
SUMMARY:Summer Bridge Program
DESCRIPTION:
URL:https://neumanngorettihs.org/event/summer-bridge-program-18/
LOCATION:Roman Catholic High School\, 301 N Broad St\, Philadelphia\, PA 19107\, USA
END:VEVENT
BEGIN:VEVENT
DTSTART;VALUE=DATE:20220719
DTEND;VALUE=DATE:20220720
DTSTAMP:20260420T081651
CREATED:20220624T201845Z
LAST-MODIFIED:20220719T233254Z
UID:36470-1658188800-1658275199@neumanngorettihs.org
SUMMARY:Summer Bridge Program
DESCRIPTION:
URL:https://neumanngorettihs.org/event/summer-bridge-program-17/
LOCATION:Roman Catholic High School\, 301 N Broad St\, Philadelphia\, PA 19107\, USA
END:VEVENT
BEGIN:VEVENT
DTSTART;VALUE=DATE:20220718
DTEND;VALUE=DATE:20220719
DTSTAMP:20260420T081651
CREATED:20220624T201844Z
LAST-MODIFIED:20220718T232208Z
UID:36469-1658102400-1658188799@neumanngorettihs.org
SUMMARY:Summer Bridge Program
DESCRIPTION:
URL:https://neumanngorettihs.org/event/summer-bridge-program-16/
LOCATION:Roman Catholic High School\, 301 N Broad St\, Philadelphia\, PA 19107\, USA
END:VEVENT
BEGIN:VEVENT
DTSTART;VALUE=DATE:20220715
DTEND;VALUE=DATE:20220716
DTSTAMP:20260420T081651
CREATED:20220624T201844Z
LAST-MODIFIED:20220715T235237Z
UID:36468-1657843200-1657929599@neumanngorettihs.org
SUMMARY:Summer Bridge Program
DESCRIPTION:
URL:https://neumanngorettihs.org/event/summer-bridge-program-15/
LOCATION:Roman Catholic High School\, 301 N Broad St\, Philadelphia\, PA 19107\, USA
END:VEVENT
BEGIN:VEVENT
DTSTART;VALUE=DATE:20220714
DTEND;VALUE=DATE:20220715
DTSTAMP:20260420T081651
CREATED:20220624T201844Z
LAST-MODIFIED:20220714T233248Z
UID:36467-1657756800-1657843199@neumanngorettihs.org
SUMMARY:Summer Bridge Program
DESCRIPTION:
URL:https://neumanngorettihs.org/event/summer-bridge-program-14/
LOCATION:Roman Catholic High School\, 301 N Broad St\, Philadelphia\, PA 19107\, USA
END:VEVENT
BEGIN:VEVENT
DTSTART;VALUE=DATE:20220713
DTEND;VALUE=DATE:20220714
DTSTAMP:20260420T081651
CREATED:20220624T201843Z
LAST-MODIFIED:20220713T231834Z
UID:36465-1657670400-1657756799@neumanngorettihs.org
SUMMARY:Summer Bridge Program
DESCRIPTION:
URL:https://neumanngorettihs.org/event/summer-bridge-program-12/
LOCATION:Roman Catholic High School\, 301 N Broad St\, Philadelphia\, PA 19107\, USA
END:VEVENT
BEGIN:VEVENT
DTSTART;VALUE=DATE:20220712
DTEND;VALUE=DATE:20220713
DTSTAMP:20260420T081651
CREATED:20220624T201843Z
LAST-MODIFIED:20220712T234758Z
UID:36466-1657584000-1657670399@neumanngorettihs.org
SUMMARY:Summer Bridge Program
DESCRIPTION:
URL:https://neumanngorettihs.org/event/summer-bridge-program-13/
LOCATION:Roman Catholic High School\, 301 N Broad St\, Philadelphia\, PA 19107\, USA
END:VEVENT
BEGIN:VEVENT
DTSTART;VALUE=DATE:20220711
DTEND;VALUE=DATE:20220712
DTSTAMP:20260420T081651
CREATED:20220624T201843Z
LAST-MODIFIED:20220711T235059Z
UID:36464-1657497600-1657583999@neumanngorettihs.org
SUMMARY:Summer Bridge Program
DESCRIPTION:
URL:https://neumanngorettihs.org/event/summer-bridge-program-11/
LOCATION:Roman Catholic High School\, 301 N Broad St\, Philadelphia\, PA 19107\, USA
END:VEVENT
BEGIN:VEVENT
DTSTART;VALUE=DATE:20220708
DTEND;VALUE=DATE:20220709
DTSTAMP:20260420T081651
CREATED:20220624T201843Z
LAST-MODIFIED:20220708T235446Z
UID:36463-1657238400-1657324799@neumanngorettihs.org
SUMMARY:Summer Bridge Program
DESCRIPTION:
URL:https://neumanngorettihs.org/event/summer-bridge-program-10/
LOCATION:Roman Catholic High School\, 301 N Broad St\, Philadelphia\, PA 19107\, USA
END:VEVENT
BEGIN:VEVENT
DTSTART;VALUE=DATE:20220707
DTEND;VALUE=DATE:20220708
DTSTAMP:20260420T081651
CREATED:20220624T201843Z
LAST-MODIFIED:20220707T233318Z
UID:36462-1657152000-1657238399@neumanngorettihs.org
SUMMARY:Summer Bridge Program
DESCRIPTION:
URL:https://neumanngorettihs.org/event/summer-bridge-program-9/
LOCATION:Roman Catholic High School\, 301 N Broad St\, Philadelphia\, PA 19107\, USA
END:VEVENT
BEGIN:VEVENT
DTSTART;VALUE=DATE:20220706
DTEND;VALUE=DATE:20220707
DTSTAMP:20260420T081651
CREATED:20220624T201842Z
LAST-MODIFIED:20220706T231855Z
UID:36461-1657065600-1657151999@neumanngorettihs.org
SUMMARY:Summer Bridge Program
DESCRIPTION:
URL:https://neumanngorettihs.org/event/summer-bridge-program-8/
LOCATION:Roman Catholic High School\, 301 N Broad St\, Philadelphia\, PA 19107\, USA
END:VEVENT
BEGIN:VEVENT
DTSTART;VALUE=DATE:20220705
DTEND;VALUE=DATE:20220706
DTSTAMP:20260420T081651
CREATED:20220624T201842Z
LAST-MODIFIED:20220705T234934Z
UID:36460-1656979200-1657065599@neumanngorettihs.org
SUMMARY:Summer Bridge Program
DESCRIPTION:
URL:https://neumanngorettihs.org/event/summer-bridge-program-7/
LOCATION:Roman Catholic High School\, 301 N Broad St\, Philadelphia\, PA 19107\, USA
END:VEVENT
BEGIN:VEVENT
DTSTART;VALUE=DATE:20220701
DTEND;VALUE=DATE:20220702
DTSTAMP:20260420T081651
CREATED:20220624T201841Z
LAST-MODIFIED:20220701T235328Z
UID:36457-1656633600-1656719999@neumanngorettihs.org
SUMMARY:Summer Bridge Program
DESCRIPTION:
URL:https://neumanngorettihs.org/event/summer-bridge-program-4/
LOCATION:Roman Catholic High School\, 301 N Broad St\, Philadelphia\, PA 19107\, USA
END:VEVENT
BEGIN:VEVENT
DTSTART;VALUE=DATE:20220630
DTEND;VALUE=DATE:20220701
DTSTAMP:20260420T081651
CREATED:20220624T201841Z
LAST-MODIFIED:20220630T235103Z
UID:36458-1656547200-1656633599@neumanngorettihs.org
SUMMARY:Summer Bridge Program
DESCRIPTION:
URL:https://neumanngorettihs.org/event/summer-bridge-program-5/
LOCATION:Roman Catholic High School\, 301 N Broad St\, Philadelphia\, PA 19107\, USA
END:VEVENT
BEGIN:VEVENT
DTSTART;VALUE=DATE:20220629
DTEND;VALUE=DATE:20220630
DTSTAMP:20260420T081651
CREATED:20220624T201842Z
LAST-MODIFIED:20220629T233400Z
UID:36459-1656460800-1656547199@neumanngorettihs.org
SUMMARY:Summer Bridge Program
DESCRIPTION:
URL:https://neumanngorettihs.org/event/summer-bridge-program-6/
LOCATION:Roman Catholic High School\, 301 N Broad St\, Philadelphia\, PA 19107\, USA
END:VEVENT
BEGIN:VEVENT
DTSTART;VALUE=DATE:20220628
DTEND;VALUE=DATE:20220629
DTSTAMP:20260420T081651
CREATED:20220624T201841Z
LAST-MODIFIED:20220628T233248Z
UID:36455-1656374400-1656460799@neumanngorettihs.org
SUMMARY:Summer Bridge Program
DESCRIPTION:
URL:https://neumanngorettihs.org/event/summer-bridge-program-2/
LOCATION:Roman Catholic High School\, 301 N Broad St\, Philadelphia\, PA 19107\, USA
END:VEVENT
BEGIN:VEVENT
DTSTART;VALUE=DATE:20220627
DTEND;VALUE=DATE:20220628
DTSTAMP:20260420T081651
CREATED:20220624T201841Z
LAST-MODIFIED:20220627T233847Z
UID:36456-1656288000-1656374399@neumanngorettihs.org
SUMMARY:Summer Bridge Program
DESCRIPTION:
URL:https://neumanngorettihs.org/event/summer-bridge-program-3/
LOCATION:Roman Catholic High School\, 301 N Broad St\, Philadelphia\, PA 19107\, USA
END:VEVENT
BEGIN:VEVENT
DTSTART;VALUE=DATE:20220624
DTEND;VALUE=DATE:20220625
DTSTAMP:20260420T081651
CREATED:20220624T201840Z
LAST-MODIFIED:20220624T233648Z
UID:36453-1656028800-1656115199@neumanngorettihs.org
SUMMARY:Summer Bridge Program
DESCRIPTION:
URL:https://neumanngorettihs.org/event/summer-bridge-program/
LOCATION:Roman Catholic High School\, 301 N Broad St\, Philadelphia\, PA 19107\, USA
END:VEVENT
END:VCALENDAR